BEGIN:VCALENDAR
VERSION:2.0
PRODID:-//The Gateway - ECPv6.15.20//NONSGML v1.0//EN
CALSCALE:GREGORIAN
METHOD:PUBLISH
X-ORIGINAL-URL:https://atthegateway.com
X-WR-CALDESC:Events for The Gateway
REFRESH-INTERVAL;VALUE=DURATION:PT1H
X-Robots-Tag:noindex
X-PUBLISHED-TTL:PT1H
BEGIN:VTIMEZONE
TZID:America/Denver
BEGIN:DAYLIGHT
TZOFFSETFROM:-0700
TZOFFSETTO:-0600
TZNAME:MDT
DTSTART:20240310T090000
END:DAYLIGHT
BEGIN:STANDARD
TZOFFSETFROM:-0600
TZOFFSETTO:-0700
TZNAME:MST
DTSTART:20241103T080000
END:STANDARD
BEGIN:DAYLIGHT
TZOFFSETFROM:-0700
TZOFFSETTO:-0600
TZNAME:MDT
DTSTART:20250309T090000
END:DAYLIGHT
BEGIN:STANDARD
TZOFFSETFROM:-0600
TZOFFSETTO:-0700
TZNAME:MST
DTSTART:20251102T080000
END:STANDARD
BEGIN:DAYLIGHT
TZOFFSETFROM:-0700
TZOFFSETTO:-0600
TZNAME:MDT
DTSTART:20260308T090000
END:DAYLIGHT
BEGIN:STANDARD
TZOFFSETFROM:-0600
TZOFFSETTO:-0700
TZNAME:MST
DTSTART:20261101T080000
END:STANDARD
END:VTIMEZONE
BEGIN:VEVENT
DTSTART;TZID=America/Denver:20250901T170000
DTEND;TZID=America/Denver:20250901T230000
DTSTAMP:20260419T145441
CREATED:20250827T224417Z
LAST-MODIFIED:20250827T224714Z
UID:60959-1756746000-1756767600@atthegateway.com
SUMMARY:Flanker Labor Day Weekend Specials
DESCRIPTION:Celebrate Labor Day Weekend with a festive lineup of food and drinks made for summer vibes. From August 29 through September 1\, indulge in our limited time specials such as refreshing watermelon salad\, a bold Hatch Chili Smashburger\, and our sweet peach cobbler topped with vanilla ice cream. Pair it with select domestic draft beers for just $8. Whether you’re here for the eats\, drinks\, or atmosphere\, it’s the perfect way to enjoy the long holiday weekend. Book your spot now and make the most of summer’s last big celebration! \nTo learn more\, click here.
URL:https://atthegateway.com/calendars/flanker-labor-day-weekend-specials/2025-09-01/
CATEGORIES:Craft Beer,Food
ATTACH;FMTTYPE=image/jpeg:https://atthegateway.com/wp-content/uploads/2025/08/Flanker-Labor-Day.jpg
END:VEVENT
BEGIN:VEVENT
DTSTART;TZID=America/Denver:20250911T170000
DTEND;TZID=America/Denver:20250911T230000
DTSTAMP:20260419T145441
CREATED:20250827T225409Z
LAST-MODIFIED:20250827T225421Z
UID:60966-1757610000-1757631600@atthegateway.com
SUMMARY:Mexican Independence Week Celebration at Flanker
DESCRIPTION:Celebrate Mexican Independence Week with food\, drinks\, and fiesta vibes! Enjoy a taco flight featuring al pastor\, tinga\, and asada\, or dig into our sizzling chorizo fundido served with warm chips. Don’t miss the sweet finish with our rich Mexican vanilla flan. Pair it nicely with Pacifico or Modelo for $7\, or keep the celebration going with Don Julio margaritas for just $10. Join us for an unforgettable week of flavor\, culture\, and community! \nTo learn more\, click here.
URL:https://atthegateway.com/calendars/mexican-independence-week-celebration-at-flanker/2025-09-11/
CATEGORIES:Cocktails,Craft Beer,Food,Holiday Events
ATTACH;FMTTYPE=image/jpeg:https://atthegateway.com/wp-content/uploads/2025/08/Flanker-Mexican-Independence-2025.jpg
END:VEVENT
BEGIN:VEVENT
DTSTART;TZID=America/Denver:20250912T170000
DTEND;TZID=America/Denver:20250912T230000
DTSTAMP:20260419T145441
CREATED:20250827T225409Z
LAST-MODIFIED:20250827T225421Z
UID:60968-1757696400-1757718000@atthegateway.com
SUMMARY:Mexican Independence Week Celebration at Flanker
DESCRIPTION:Celebrate Mexican Independence Week with food\, drinks\, and fiesta vibes! Enjoy a taco flight featuring al pastor\, tinga\, and asada\, or dig into our sizzling chorizo fundido served with warm chips. Don’t miss the sweet finish with our rich Mexican vanilla flan. Pair it nicely with Pacifico or Modelo for $7\, or keep the celebration going with Don Julio margaritas for just $10. Join us for an unforgettable week of flavor\, culture\, and community! \nTo learn more\, click here.
URL:https://atthegateway.com/calendars/mexican-independence-week-celebration-at-flanker/2025-09-12/
CATEGORIES:Cocktails,Craft Beer,Food,Holiday Events
ATTACH;FMTTYPE=image/jpeg:https://atthegateway.com/wp-content/uploads/2025/08/Flanker-Mexican-Independence-2025.jpg
END:VEVENT
BEGIN:VEVENT
DTSTART;TZID=America/Denver:20250913T170000
DTEND;TZID=America/Denver:20250913T230000
DTSTAMP:20260419T145441
CREATED:20250827T225409Z
LAST-MODIFIED:20250827T225421Z
UID:60969-1757782800-1757804400@atthegateway.com
SUMMARY:Mexican Independence Week Celebration at Flanker
DESCRIPTION:Celebrate Mexican Independence Week with food\, drinks\, and fiesta vibes! Enjoy a taco flight featuring al pastor\, tinga\, and asada\, or dig into our sizzling chorizo fundido served with warm chips. Don’t miss the sweet finish with our rich Mexican vanilla flan. Pair it nicely with Pacifico or Modelo for $7\, or keep the celebration going with Don Julio margaritas for just $10. Join us for an unforgettable week of flavor\, culture\, and community! \nTo learn more\, click here.
URL:https://atthegateway.com/calendars/mexican-independence-week-celebration-at-flanker/2025-09-13/
CATEGORIES:Cocktails,Craft Beer,Food,Holiday Events
ATTACH;FMTTYPE=image/jpeg:https://atthegateway.com/wp-content/uploads/2025/08/Flanker-Mexican-Independence-2025.jpg
END:VEVENT
BEGIN:VEVENT
DTSTART;TZID=America/Denver:20250914T170000
DTEND;TZID=America/Denver:20250914T230000
DTSTAMP:20260419T145441
CREATED:20250827T225409Z
LAST-MODIFIED:20250827T225421Z
UID:60970-1757869200-1757890800@atthegateway.com
SUMMARY:Mexican Independence Week Celebration at Flanker
DESCRIPTION:Celebrate Mexican Independence Week with food\, drinks\, and fiesta vibes! Enjoy a taco flight featuring al pastor\, tinga\, and asada\, or dig into our sizzling chorizo fundido served with warm chips. Don’t miss the sweet finish with our rich Mexican vanilla flan. Pair it nicely with Pacifico or Modelo for $7\, or keep the celebration going with Don Julio margaritas for just $10. Join us for an unforgettable week of flavor\, culture\, and community! \nTo learn more\, click here.
URL:https://atthegateway.com/calendars/mexican-independence-week-celebration-at-flanker/2025-09-14/
CATEGORIES:Cocktails,Craft Beer,Food,Holiday Events
ATTACH;FMTTYPE=image/jpeg:https://atthegateway.com/wp-content/uploads/2025/08/Flanker-Mexican-Independence-2025.jpg
END:VEVENT
BEGIN:VEVENT
DTSTART;TZID=America/Denver:20250915T170000
DTEND;TZID=America/Denver:20250915T230000
DTSTAMP:20260419T145441
CREATED:20250827T225409Z
LAST-MODIFIED:20250827T225421Z
UID:60971-1757955600-1757977200@atthegateway.com
SUMMARY:Mexican Independence Week Celebration at Flanker
DESCRIPTION:Celebrate Mexican Independence Week with food\, drinks\, and fiesta vibes! Enjoy a taco flight featuring al pastor\, tinga\, and asada\, or dig into our sizzling chorizo fundido served with warm chips. Don’t miss the sweet finish with our rich Mexican vanilla flan. Pair it nicely with Pacifico or Modelo for $7\, or keep the celebration going with Don Julio margaritas for just $10. Join us for an unforgettable week of flavor\, culture\, and community! \nTo learn more\, click here.
URL:https://atthegateway.com/calendars/mexican-independence-week-celebration-at-flanker/2025-09-15/
CATEGORIES:Cocktails,Craft Beer,Food,Holiday Events
ATTACH;FMTTYPE=image/jpeg:https://atthegateway.com/wp-content/uploads/2025/08/Flanker-Mexican-Independence-2025.jpg
END:VEVENT
BEGIN:VEVENT
DTSTART;TZID=America/Denver:20250916T170000
DTEND;TZID=America/Denver:20250916T230000
DTSTAMP:20260419T145441
CREATED:20250827T225409Z
LAST-MODIFIED:20250827T225422Z
UID:60972-1758042000-1758063600@atthegateway.com
SUMMARY:Mexican Independence Week Celebration at Flanker
DESCRIPTION:Celebrate Mexican Independence Week with food\, drinks\, and fiesta vibes! Enjoy a taco flight featuring al pastor\, tinga\, and asada\, or dig into our sizzling chorizo fundido served with warm chips. Don’t miss the sweet finish with our rich Mexican vanilla flan. Pair it nicely with Pacifico or Modelo for $7\, or keep the celebration going with Don Julio margaritas for just $10. Join us for an unforgettable week of flavor\, culture\, and community! \nTo learn more\, click here.
URL:https://atthegateway.com/calendars/mexican-independence-week-celebration-at-flanker/2025-09-16/
CATEGORIES:Cocktails,Craft Beer,Food,Holiday Events
ATTACH;FMTTYPE=image/jpeg:https://atthegateway.com/wp-content/uploads/2025/08/Flanker-Mexican-Independence-2025.jpg
END:VEVENT
END:VCALENDAR