BEGIN:VCALENDAR
VERSION:2.0
PRODID:-//The Gateway - ECPv6.15.20//NONSGML v1.0//EN
CALSCALE:GREGORIAN
METHOD:PUBLISH
X-ORIGINAL-URL:https://atthegateway.com
X-WR-CALDESC:Events for The Gateway
REFRESH-INTERVAL;VALUE=DURATION:PT1H
X-Robots-Tag:noindex
X-PUBLISHED-TTL:PT1H
BEGIN:VTIMEZONE
TZID:America/Denver
BEGIN:DAYLIGHT
TZOFFSETFROM:-0700
TZOFFSETTO:-0600
TZNAME:MDT
DTSTART:20250309T090000
END:DAYLIGHT
BEGIN:STANDARD
TZOFFSETFROM:-0600
TZOFFSETTO:-0700
TZNAME:MST
DTSTART:20251102T080000
END:STANDARD
BEGIN:DAYLIGHT
TZOFFSETFROM:-0700
TZOFFSETTO:-0600
TZNAME:MDT
DTSTART:20260308T090000
END:DAYLIGHT
BEGIN:STANDARD
TZOFFSETFROM:-0600
TZOFFSETTO:-0700
TZNAME:MST
DTSTART:20261101T080000
END:STANDARD
BEGIN:DAYLIGHT
TZOFFSETFROM:-0700
TZOFFSETTO:-0600
TZNAME:MDT
DTSTART:20270314T090000
END:DAYLIGHT
BEGIN:STANDARD
TZOFFSETFROM:-0600
TZOFFSETTO:-0700
TZNAME:MST
DTSTART:20271107T080000
END:STANDARD
END:VTIMEZONE
BEGIN:VEVENT
DTSTART;TZID=America/Denver:20260509T170000
DTEND;TZID=America/Denver:20260509T210000
DTSTAMP:20260425T045929
CREATED:20260424T182054Z
LAST-MODIFIED:20260424T182202Z
UID:64713-1778346000-1778360400@atthegateway.com
SUMMARY:Bark at the Moon
DESCRIPTION:The Humane Society of Utah invites you to Bark at the Moon\, a fun-filled evening at The Gateway on May 9\, 2026\, from 5–9 PM! \nEnjoy delicious bites from local food vendors\, sip on craft beer\, and groove to live music. Stroll through a vibrant vendor alley\, let your pups cool off in the splash pad\, and soak in the lively atmosphere. \nThe night wraps up with a glow-in-the-dark\, dog-friendly walk at 9 PM. Bring your family\, friends\, and furry companions to this unforgettable event\, all in support of the Humane Society of Utah! \nTo learn more\, click here.
URL:https://atthegateway.com/calendars/bark-at-the-moon-26/
CATEGORIES:Charity,Craft Beer,Family-Friendly,Food,Pet Friendly
ATTACH;FMTTYPE=image/jpeg:https://atthegateway.com/wp-content/uploads/2026/04/batm.jpg
END:VEVENT
END:VCALENDAR