BEGIN:VCALENDAR
VERSION:2.0
PRODID:-//The Gateway - ECPv6.15.20//NONSGML v1.0//EN
CALSCALE:GREGORIAN
METHOD:PUBLISH
X-ORIGINAL-URL:https://atthegateway.com
X-WR-CALDESC:Events for The Gateway
REFRESH-INTERVAL;VALUE=DURATION:PT1H
X-Robots-Tag:noindex
X-PUBLISHED-TTL:PT1H
BEGIN:VTIMEZONE
TZID:America/Denver
BEGIN:DAYLIGHT
TZOFFSETFROM:-0700
TZOFFSETTO:-0600
TZNAME:MDT
DTSTART:20170312T090000
END:DAYLIGHT
BEGIN:STANDARD
TZOFFSETFROM:-0600
TZOFFSETTO:-0700
TZNAME:MST
DTSTART:20171105T080000
END:STANDARD
BEGIN:DAYLIGHT
TZOFFSETFROM:-0700
TZOFFSETTO:-0600
TZNAME:MDT
DTSTART:20180311T090000
END:DAYLIGHT
BEGIN:STANDARD
TZOFFSETFROM:-0600
TZOFFSETTO:-0700
TZNAME:MST
DTSTART:20181104T080000
END:STANDARD
BEGIN:DAYLIGHT
TZOFFSETFROM:-0700
TZOFFSETTO:-0600
TZNAME:MDT
DTSTART:20190310T090000
END:DAYLIGHT
BEGIN:STANDARD
TZOFFSETFROM:-0600
TZOFFSETTO:-0700
TZNAME:MST
DTSTART:20191103T080000
END:STANDARD
BEGIN:DAYLIGHT
TZOFFSETFROM:-0700
TZOFFSETTO:-0600
TZNAME:MDT
DTSTART:20200308T090000
END:DAYLIGHT
BEGIN:STANDARD
TZOFFSETFROM:-0600
TZOFFSETTO:-0700
TZNAME:MST
DTSTART:20201101T080000
END:STANDARD
END:VTIMEZONE
BEGIN:VEVENT
DTSTART;TZID=America/Denver:20190914T120000
DTEND;TZID=America/Denver:20190914T220000
DTSTAMP:20260421T041544
CREATED:20190711T165955Z
LAST-MODIFIED:20190717T164848Z
UID:25094-1568462400-1568498400@atthegateway.com
SUMMARY:Festa Italiana
DESCRIPTION:A celebration of the culture\, entertainment\, and culinary diversity of Italy! Enjoy the surroundings of beautiful downtown Salt Lake City at The Gateway while exploring the culture\, entertainment and culinary diversity of Italy. Last year was a tremendous success with over 20\,000 in attendance. This has become one of Salt Lake City’s favorite events! \nDuring the two-day festival\, highlights include live entertainment from Italy and around the world. Also enjoy\, food booths (highlighting the regions of Italian cuisine\, Italian wine\, arts & crafts\, historical displays\, live raffles\, exotic Italian cars and much more. \nFesta Italiana Salt Lake City is a non-profit event. Proceeds from the festival will support Catholic Community Services and other local and national non-profit charitable organizations supported by the Italian-American Civic League of Utah and Italian Club of Salt Lake. \nAdmission is free. For more info click here! \n 
URL:https://atthegateway.com/calendars/festa-italiana-2-2/2019-09-14/
CATEGORIES:Arts & Culture,Festival,Food Event,Live Music
ATTACH;FMTTYPE=image/png:https://atthegateway.com/wp-content/uploads/2019/07/FI.png
END:VEVENT
BEGIN:VEVENT
DTSTART;TZID=America/Denver:20190824T120000
DTEND;TZID=America/Denver:20190824T200000
DTSTAMP:20260421T041544
CREATED:20190711T202713Z
LAST-MODIFIED:20190711T203149Z
UID:25141-1566648000-1566676800@atthegateway.com
SUMMARY:Made in Utah Festival
DESCRIPTION:Made in Utah Festival is a free to public\, pet and family friendly event that offers out of Utah experience. Watch your children play in the water fountain or dance to music of some of the best Utah musicians while sipping a locally crafted cocktail\, beer or wine. Food trucks and local food producers will make sure that your tummy is full of delicious foods and you may be introduced to foods you did not try before. \nOver 100 of local makers will ensure that you will have a great shopping experience. This is the event where Utah comes together.\nCelebrate our great state’s diversity\, support local economy and have lots of fun while doing it! \nCome and support our local makers and artists! Admission is free. \nClick here for more info!
URL:https://atthegateway.com/calendars/made-in-utah-festival-2/2019-08-24/
CATEGORIES:Family-Friendly,Festival
ATTACH;FMTTYPE=image/jpeg:https://atthegateway.com/wp-content/uploads/2019/07/MIU-BANNER-2019-960-px-wide.jpg
END:VEVENT
BEGIN:VEVENT
DTSTART;TZID=America/Denver:20190801T163000
DTEND;TZID=America/Denver:20190811T230000
DTSTAMP:20260421T041544
CREATED:20190702T202216Z
LAST-MODIFIED:20190702T202216Z
UID:24986-1564677000-1565564400@atthegateway.com
SUMMARY:Fringe Festival
DESCRIPTION:The Fringe is unlike any other theatre experience. Here\, you’ll find an artistic community that isn’t satisfied with the status quo. Fringe artists and audiences alike are willing to push limits\, think outside the box\, and embrace the unique nature of live performance. We invite you to jump in headfirst to two exhilarating weekends of engaging\, varied\, magical\, funny\, moving\, thought-provoking\, delightful Fringe! \nFor more info click here. \n 
URL:https://atthegateway.com/calendars/fringe-festival-2/
CATEGORIES:Arts & Culture,Festival
ATTACH;FMTTYPE=image/jpeg:https://atthegateway.com/wp-content/uploads/2019/07/action-adults-athlete-690597.jpg
END:VEVENT
BEGIN:VEVENT
DTSTART;TZID=America/Denver:20190704T160000
DTEND;TZID=America/Denver:20190704T220000
DTSTAMP:20260421T041544
CREATED:20190520T152402Z
LAST-MODIFIED:20190702T201041Z
UID:24157-1562256000-1562277600@atthegateway.com
SUMMARY:4th of July Celebration at The Gateway
DESCRIPTION:Celebrate YOUR independence at The Gateway from 4-10 p.m. out on The Plaza. \nAmerican classics available at all your favorite Gateway bars and restaurants PLUS Food Trucks in the Plaza. Craft beer from Bohemian Brewery and classic American cocktails by Five Wives. \nTwo stages with bands and DJs plus Karaoke stage. Yard Games\, Face Painting\, American Dream Wall Art\, contests throughout the day on the main stage. \nNorth Stage:\n4-6pm:  DJ Jared\n6-7pm: Back Seat Lovers\n7-8pm: DJ Jarvicious\n8-9pm: Parkway Avenue\n9-10pm: DJ Bangarang \nSouth Stage:\n4-6pm: DJ Logic\n6-10pm: Karaoke \nStop by Dreamscapes Musem at The Gateway if you are dressed in red\, white and blue for only $4 (must be cash). \n$1 GREENbike Rides July 3rd – 7th with the kiosk code: 7419. Ride on down to The Gateway and enjoy the Fireworks for only $1! \nFireworks at dusk! \nPresented by Strong Volkswagen. \nFor more info click here.
URL:https://atthegateway.com/calendars/4th-of-july-celebration-at-the-gateway/
CATEGORIES:Craft Beer,Events,Family-Friendly,Festival,Live Music
ATTACH;FMTTYPE=image/jpeg:https://atthegateway.com/wp-content/uploads/2019/05/Gateway_4th_960x640.jpg
END:VEVENT
BEGIN:VEVENT
DTSTART;TZID=America/Denver:20190614T120000
DTEND;TZID=America/Denver:20190615T190000
DTSTAMP:20260421T041544
CREATED:20190409T222314Z
LAST-MODIFIED:20190409T222910Z
UID:23353-1560513600-1560625200@atthegateway.com
SUMMARY:Chalk Art Festival
DESCRIPTION:Stroll a gallery of street murals at Utah Foster Care’s 17th Annual Chalk Art Festival June 14-16th. More than 100 local artists create masterpieces in real time\, with family-friendly live entertainment and cuisine from your favorite food trucks. For 17 years\, The Gateway has hosted this premier community art event to raise awareness of the need for foster parents for Utah kids. Vote by text for People’s Choice artwork\, and witness another 3D creation by world-renowned artist Julie Kirk Purcell. Murals remain in place for Father’s Day viewing on Sunday.
URL:https://atthegateway.com/calendars/chalkartfestival2019/
CATEGORIES:Arts & Culture,Charity,Family-Friendly,Festival
ATTACH;FMTTYPE=image/jpeg:https://atthegateway.com/wp-content/uploads/2018/04/chalk-art-event.jpg
END:VEVENT
BEGIN:VEVENT
DTSTART;TZID=America/Denver:20181109T160000
DTEND;TZID=America/Denver:20181109T210000
DTSTAMP:20260421T041544
CREATED:20181017T210325Z
LAST-MODIFIED:20181017T211209Z
UID:21429-1541779200-1541797200@atthegateway.com
SUMMARY:Illuminate Festival
DESCRIPTION:The ILLUMINATE SALT LAKE Festival is a free two-day community art event and a celebration of innovation and imagination for the community\, art lovers\, and families. The festival features installations by more than 30 artists\, live music and performances\, kids activities\, a kids short film fest\, interactive light art demonstrations\, virtual reality arts displays\, food trucks\, local brews & spirits and much more!
URL:https://atthegateway.com/calendars/illuminate-festival/2018-11-09/
CATEGORIES:Arts & Culture,Family-Friendly,Festival
ATTACH;FMTTYPE=image/jpeg:https://atthegateway.com/wp-content/uploads/2018/10/Illuminate-960x640-Ad-2018.opt2_.jpg
END:VEVENT
BEGIN:VEVENT
DTSTART;TZID=America/Denver:20181019T113000
DTEND;TZID=America/Denver:20181019T143000
DTSTAMP:20260421T041544
CREATED:20181003T170022Z
LAST-MODIFIED:20181003T170116Z
UID:21153-1539948600-1539959400@atthegateway.com
SUMMARY:Pumpkin Festival
DESCRIPTION:Paint some pumpkins and learn more about foster parenting\, while dancing to the tunes of DJ Rob — costume contest and free pumpkins while supplies last! \nBring the whole family down to The Olympic Legacy Fountain/Plaza at The Gateway for a free Halloween celebration presented by Utah Foster Care\, my529.org (formerly Utah Education Savings Plan)\, and The Gateway!
URL:https://atthegateway.com/calendars/pumpkin-festival/
CATEGORIES:Events,Family-Friendly,Festival
ATTACH;FMTTYPE=image/png:https://atthegateway.com/wp-content/uploads/2018/10/bnr-960x640px.png
END:VEVENT
BEGIN:VEVENT
DTSTART;TZID=America/Denver:20180922T110000
DTEND;TZID=America/Denver:20180922T190000
DTSTAMP:20260421T041544
CREATED:20180418T164801Z
LAST-MODIFIED:20180719T235442Z
UID:19481-1537614000-1537642800@atthegateway.com
SUMMARY:Hispanic Heritage Festival
DESCRIPTION:Join Take Care Utah for Utah’s third annual Hispanic Heritage Parade and Street Festival. The event\, celebrating National Hispanic Heritage Month\, will take place from 11:00 a.m. – 7:00 p.m. on Saturday\, September 22nd at The Gateway. \nThis free event will feature an exciting community parade that kicks off at 10:00 a.m.! There will also be food vendors (empanadas\, tacos\, pupusas\, Cuban sandwiches\, arepas\, and more)\, beer\, local artisans\, dance performances\, live music\, and other family-friendly entertainment \nhttps://www.facebook.com/UtahHispanicHeritageParade/
URL:https://atthegateway.com/calendars/hispanic-heritage-festival/
CATEGORIES:Arts & Culture,Festival,Food Event,Live Music
ATTACH;FMTTYPE=image/jpeg:https://atthegateway.com/wp-content/uploads/2018/04/hispanic-heritage-event-copy.jpg
END:VEVENT
BEGIN:VEVENT
DTSTART;TZID=America/Denver:20180916T120000
DTEND;TZID=America/Denver:20180916T190000
DTSTAMP:20260421T041544
CREATED:20180815T154047Z
LAST-MODIFIED:20180830T205337Z
UID:20881-1537099200-1537124400@atthegateway.com
SUMMARY:Festa Italiana
DESCRIPTION:A celebration of the culture\, entertainment\, and culinary diversity of Italy! Enjoy the surroundings of beautiful downtown Salt Lake City at The Gateway while exploring the culture\, entertainment and culinary diversity of Italy. Last year was a tremendous success with over 19\,000 in attendance. This has become one of Salt Lake City’s favorite events! \nDuring the two-day festival\, highlights include live entertainment from Italy and around the world. Also enjoy\, food booths (highlighting the regions of Italian cuisine\, Italian wine\, arts & crafts\, historical displays\, live raffles\, exotic Italian cars and much more. \nFesta Italiana Salt Lake City is a non-profit event. Proceeds from the festival will support Catholic Community Services and other local and national non-profit charitable organizations supported by the Italian-American Civic League of Utah and Italian Club of Salt Lake. \nAdmission is free. \nhttps://www.facebook.com/events/308898412969813/
URL:https://atthegateway.com/calendars/festa-italiana-2/
CATEGORIES:Arts & Culture,Festival,Food Event,Live Music
ATTACH;FMTTYPE=image/jpeg:https://atthegateway.com/wp-content/uploads/2018/04/festa-italiana-event.jpg
END:VEVENT
BEGIN:VEVENT
DTSTART;TZID=America/Denver:20180915T120000
DTEND;TZID=America/Denver:20180915T220000
DTSTAMP:20260421T041544
CREATED:20180418T164603Z
LAST-MODIFIED:20180815T153930Z
UID:19477-1537012800-1537048800@atthegateway.com
SUMMARY:Festa Italiana
DESCRIPTION:A celebration of the culture\, entertainment\, and culinary diversity of Italy! Enjoy the surroundings of beautiful downtown Salt Lake City at The Gateway while exploring the culture\, entertainment and culinary diversity of Italy. Last year was a tremendous success with over 19\,000 in attendance. This has become one of Salt Lake City’s favorite events! \nDuring the two-day festival\, highlights include live entertainment from Italy and around the world. Also enjoy\, food booths (highlighting the regions of Italian cuisine\, Italian wine\, arts & crafts\, historical displays\, live raffles\, exotic Italian cars and much more. \nFesta Italiana Salt Lake City is a non-profit event. Proceeds from the festival will support Catholic Community Services and other local and national non-profit charitable organizations supported by the Italian-American Civic League of Utah and Italian Club of Salt Lake. \nAdmission is free. \nhttps://www.facebook.com/events/308898412969813/
URL:https://atthegateway.com/calendars/festa-italiana/
CATEGORIES:Arts & Culture,Festival,Food Event,Live Music
ATTACH;FMTTYPE=image/jpeg:https://atthegateway.com/wp-content/uploads/2018/04/festa-italiana-event.jpg
END:VEVENT
BEGIN:VEVENT
DTSTART;TZID=America/Denver:20180825T120000
DTEND;TZID=America/Denver:20180825T200000
DTSTAMP:20260421T041544
CREATED:20180418T164120Z
LAST-MODIFIED:20180608T192019Z
UID:19471-1535198400-1535227200@atthegateway.com
SUMMARY:Made in Utah Festival
DESCRIPTION:Made in Utah Festival is a free to public yearly event organized by Utah Stories. Here we promote some of the best Utah artists\, artisans\, product makers\, breweries\, distilleries and wineries. You will be able to try and buy these truly Made in Utah products while listening to music of our local Utah bands. \nCome and support our local makers and artists! Admission is free. \nhttps://www.facebook.com/events/2010104899275444/
URL:https://atthegateway.com/calendars/made-in-utah-festival/
CATEGORIES:Arts & Culture,Family-Friendly,Festival
ATTACH;FMTTYPE=image/jpeg:https://atthegateway.com/wp-content/uploads/2018/04/madeinutah-event.jpg
END:VEVENT
BEGIN:VEVENT
DTSTART;TZID=America/Denver:20180802T163000
DTEND;TZID=America/Denver:20180812T230000
DTSTAMP:20260421T041544
CREATED:20180417T192452Z
LAST-MODIFIED:20180608T191917Z
UID:19373-1533227400-1534114800@atthegateway.com
SUMMARY:Fringe Festival
DESCRIPTION:The Fringe is unlike any other theatre experience. Here\, you’ll find an artistic community that isn’t satisfied with the status quo. Fringe artists and audiences alike are willing to push limits\, think outside the box\, and embrace the unique nature of live performance. We invite you to jump in headfirst to two exhilarating weekends of engaging\, varied\, magical\, funny\, moving\, thought-provoking\, delightful Fringe! \nhttp://www.greatsaltlakefringe.org/ \nhttps://www.facebook.com/greatsaltlakefringe/
URL:https://atthegateway.com/calendars/fringe-festival/
CATEGORIES:Arts & Culture,Festival
ATTACH;FMTTYPE=image/jpeg:https://atthegateway.com/wp-content/uploads/2018/04/fringe-fest-event.jpg
END:VEVENT
BEGIN:VEVENT
DTSTART;TZID=America/Denver:20180623T110000
DTEND;TZID=America/Denver:20180623T190000
DTSTAMP:20260421T041544
CREATED:20180417T190923Z
LAST-MODIFIED:20180608T191534Z
UID:19362-1529751600-1529780400@atthegateway.com
SUMMARY:Snowbrush Herb Festival
DESCRIPTION:Join us for a free day-long event with hands-on workshops\, classes\, local and visiting vendors\, live music\, amazing food\, and more—all taking place at The Gateway. \nSnowbrush Herb Festival is in its third year\, and we have a truly amazing event planned for you for 2018. Our presenters are top-notch and will be giving you lots of inspiration and information about all things herbs and plant medicine! We will also have a fantastic indoor market stocked with herbs\, oils\, balms\, teas\, tinctures\, and more from herbalists around the country. \nhttps://www.facebook.com/events/518388235184811/
URL:https://atthegateway.com/calendars/snowbrush-herb-festival/
CATEGORIES:Family-Friendly,Festival,Food Event,Live Music
ATTACH;FMTTYPE=image/jpeg:https://atthegateway.com/wp-content/uploads/2018/04/snowbrush-herb-event.jpg
END:VEVENT
BEGIN:VEVENT
DTSTART;TZID=America/Denver:20180615T120000
DTEND;TZID=America/Denver:20180617T190000
DTSTAMP:20260421T041544
CREATED:20180417T184837Z
LAST-MODIFIED:20180608T191420Z
UID:19334-1529064000-1529262000@atthegateway.com
SUMMARY:Chalk Art Festival
DESCRIPTION:Because of opioid addiction\, the number of children in foster care is growing. Those children need our support more than ever. Come out and show your support at Utah Foster Care’s annual Chalk Art Festival at The Gateway\, held every Fathers Day weekend. \nThis free community art event turns Rio Grande Street into a gallery of vibrant street murals. This year\, we’re offering a Kids Korner packed with new activities\, including our “The Foster Parent is In” booth and lots of art projects for the kids. \nFriday\, June 15th \n11am: Artist Check-in\nNoon: Festival Begins\n4pm: Info Booths Staffed\n9pm: Festival Closes \nSaturday\, June 16th \n10am: Festival Reopens\nNoon: Foster Dad of the Year Awards\nAlso: Kids’ Korner\, Food Trucks\, and Vendor Booths Open\n4pm: Judging Begins\n6pm: Artist Awards\n7pm: Festival Ends \nSunday\, June 17th \nMurals remain for Fathers Day viewing! \nhttps://utahfostercare.org/chalkartfestival/
URL:https://atthegateway.com/calendars/chalk-art-festival/
CATEGORIES:Arts & Culture,Festival
ATTACH;FMTTYPE=image/jpeg:https://atthegateway.com/wp-content/uploads/2018/04/chalk-art-event.jpg
END:VEVENT
BEGIN:VEVENT
DTSTART;TZID=America/Denver:20180518T190000
DTEND;TZID=America/Denver:20180518T230000
DTSTAMP:20260421T041544
CREATED:20180417T181105Z
LAST-MODIFIED:20180417T181105Z
UID:19318-1526670000-1526684400@atthegateway.com
SUMMARY:City Weekly Pizza Party
DESCRIPTION:PIZZA | DJS | BEER | PARTY \nWe’ve invited the best pizzerias from all over the Salt Lake County to come together for one big pizza party! Sample all the pizza offerings\, and then vote on the following categories: \n\nBest Vegetarian\nBest Sauce\nBest Crust\nBest Guilty Pleasure\nBest Overall\nBest Pizza + Drink Pair\n\nList of pizzerias and drink options coming soon! \nFor more information visit: utahpizzaparty.com \nThis is a fundraiser for Press Backers \nThis event will benefit Press Backers\, who funds local journalists who produce stories in the local free newspapers\, magazines and websites you currently enjoy. Support local journalism. Support local voices. \nhttps://www.facebook.com/events/444402899329917/
URL:https://atthegateway.com/calendars/city-weekly-pizza-party/
CATEGORIES:Festival
ATTACH;FMTTYPE=image/jpeg:https://atthegateway.com/wp-content/uploads/2018/04/CW-pizza-event.jpg
END:VEVENT
END:VCALENDAR