BEGIN:VCALENDAR
VERSION:2.0
PRODID:-//The Gateway - ECPv6.15.20//NONSGML v1.0//EN
CALSCALE:GREGORIAN
METHOD:PUBLISH
X-WR-CALNAME:The Gateway
X-ORIGINAL-URL:https://atthegateway.com
X-WR-CALDESC:Events for The Gateway
REFRESH-INTERVAL;VALUE=DURATION:PT1H
X-Robots-Tag:noindex
X-PUBLISHED-TTL:PT1H
BEGIN:VTIMEZONE
TZID:America/Denver
BEGIN:DAYLIGHT
TZOFFSETFROM:-0700
TZOFFSETTO:-0600
TZNAME:MDT
DTSTART:20170312T090000
END:DAYLIGHT
BEGIN:STANDARD
TZOFFSETFROM:-0600
TZOFFSETTO:-0700
TZNAME:MST
DTSTART:20171105T080000
END:STANDARD
BEGIN:DAYLIGHT
TZOFFSETFROM:-0700
TZOFFSETTO:-0600
TZNAME:MDT
DTSTART:20180311T090000
END:DAYLIGHT
BEGIN:STANDARD
TZOFFSETFROM:-0600
TZOFFSETTO:-0700
TZNAME:MST
DTSTART:20181104T080000
END:STANDARD
BEGIN:DAYLIGHT
TZOFFSETFROM:-0700
TZOFFSETTO:-0600
TZNAME:MDT
DTSTART:20190310T090000
END:DAYLIGHT
BEGIN:STANDARD
TZOFFSETFROM:-0600
TZOFFSETTO:-0700
TZNAME:MST
DTSTART:20191103T080000
END:STANDARD
END:VTIMEZONE
BEGIN:VEVENT
DTSTART;TZID=America/Denver:20180825T120000
DTEND;TZID=America/Denver:20180825T200000
DTSTAMP:20260421T053201
CREATED:20180418T164120Z
LAST-MODIFIED:20180608T192019Z
UID:19471-1535198400-1535227200@atthegateway.com
SUMMARY:Made in Utah Festival
DESCRIPTION:Made in Utah Festival is a free to public yearly event organized by Utah Stories. Here we promote some of the best Utah artists\, artisans\, product makers\, breweries\, distilleries and wineries. You will be able to try and buy these truly Made in Utah products while listening to music of our local Utah bands. \nCome and support our local makers and artists! Admission is free. \nhttps://www.facebook.com/events/2010104899275444/
URL:https://atthegateway.com/calendars/made-in-utah-festival/
CATEGORIES:Arts & Culture,Family-Friendly,Festival
ATTACH;FMTTYPE=image/jpeg:https://atthegateway.com/wp-content/uploads/2018/04/madeinutah-event.jpg
END:VEVENT
BEGIN:VEVENT
DTSTART;TZID=America/Denver:20180802T163000
DTEND;TZID=America/Denver:20180812T230000
DTSTAMP:20260421T053201
CREATED:20180417T192452Z
LAST-MODIFIED:20180608T191917Z
UID:19373-1533227400-1534114800@atthegateway.com
SUMMARY:Fringe Festival
DESCRIPTION:The Fringe is unlike any other theatre experience. Here\, you’ll find an artistic community that isn’t satisfied with the status quo. Fringe artists and audiences alike are willing to push limits\, think outside the box\, and embrace the unique nature of live performance. We invite you to jump in headfirst to two exhilarating weekends of engaging\, varied\, magical\, funny\, moving\, thought-provoking\, delightful Fringe! \nhttp://www.greatsaltlakefringe.org/ \nhttps://www.facebook.com/greatsaltlakefringe/
URL:https://atthegateway.com/calendars/fringe-festival/
CATEGORIES:Arts & Culture,Festival
ATTACH;FMTTYPE=image/jpeg:https://atthegateway.com/wp-content/uploads/2018/04/fringe-fest-event.jpg
END:VEVENT
BEGIN:VEVENT
DTSTART;TZID=America/Denver:20180623T110000
DTEND;TZID=America/Denver:20180623T190000
DTSTAMP:20260421T053201
CREATED:20180417T190923Z
LAST-MODIFIED:20180608T191534Z
UID:19362-1529751600-1529780400@atthegateway.com
SUMMARY:Snowbrush Herb Festival
DESCRIPTION:Join us for a free day-long event with hands-on workshops\, classes\, local and visiting vendors\, live music\, amazing food\, and more—all taking place at The Gateway. \nSnowbrush Herb Festival is in its third year\, and we have a truly amazing event planned for you for 2018. Our presenters are top-notch and will be giving you lots of inspiration and information about all things herbs and plant medicine! We will also have a fantastic indoor market stocked with herbs\, oils\, balms\, teas\, tinctures\, and more from herbalists around the country. \nhttps://www.facebook.com/events/518388235184811/
URL:https://atthegateway.com/calendars/snowbrush-herb-festival/
CATEGORIES:Family-Friendly,Festival,Food Event,Live Music
ATTACH;FMTTYPE=image/jpeg:https://atthegateway.com/wp-content/uploads/2018/04/snowbrush-herb-event.jpg
END:VEVENT
BEGIN:VEVENT
DTSTART;TZID=America/Denver:20180615T120000
DTEND;TZID=America/Denver:20180617T190000
DTSTAMP:20260421T053201
CREATED:20180417T184837Z
LAST-MODIFIED:20180608T191420Z
UID:19334-1529064000-1529262000@atthegateway.com
SUMMARY:Chalk Art Festival
DESCRIPTION:Because of opioid addiction\, the number of children in foster care is growing. Those children need our support more than ever. Come out and show your support at Utah Foster Care’s annual Chalk Art Festival at The Gateway\, held every Fathers Day weekend. \nThis free community art event turns Rio Grande Street into a gallery of vibrant street murals. This year\, we’re offering a Kids Korner packed with new activities\, including our “The Foster Parent is In” booth and lots of art projects for the kids. \nFriday\, June 15th \n11am: Artist Check-in\nNoon: Festival Begins\n4pm: Info Booths Staffed\n9pm: Festival Closes \nSaturday\, June 16th \n10am: Festival Reopens\nNoon: Foster Dad of the Year Awards\nAlso: Kids’ Korner\, Food Trucks\, and Vendor Booths Open\n4pm: Judging Begins\n6pm: Artist Awards\n7pm: Festival Ends \nSunday\, June 17th \nMurals remain for Fathers Day viewing! \nhttps://utahfostercare.org/chalkartfestival/
URL:https://atthegateway.com/calendars/chalk-art-festival/
CATEGORIES:Arts & Culture,Festival
ATTACH;FMTTYPE=image/jpeg:https://atthegateway.com/wp-content/uploads/2018/04/chalk-art-event.jpg
END:VEVENT
BEGIN:VEVENT
DTSTART;TZID=America/Denver:20180518T190000
DTEND;TZID=America/Denver:20180518T230000
DTSTAMP:20260421T053201
CREATED:20180417T181105Z
LAST-MODIFIED:20180417T181105Z
UID:19318-1526670000-1526684400@atthegateway.com
SUMMARY:City Weekly Pizza Party
DESCRIPTION:PIZZA | DJS | BEER | PARTY \nWe’ve invited the best pizzerias from all over the Salt Lake County to come together for one big pizza party! Sample all the pizza offerings\, and then vote on the following categories: \n\nBest Vegetarian\nBest Sauce\nBest Crust\nBest Guilty Pleasure\nBest Overall\nBest Pizza + Drink Pair\n\nList of pizzerias and drink options coming soon! \nFor more information visit: utahpizzaparty.com \nThis is a fundraiser for Press Backers \nThis event will benefit Press Backers\, who funds local journalists who produce stories in the local free newspapers\, magazines and websites you currently enjoy. Support local journalism. Support local voices. \nhttps://www.facebook.com/events/444402899329917/
URL:https://atthegateway.com/calendars/city-weekly-pizza-party/
CATEGORIES:Festival
ATTACH;FMTTYPE=image/jpeg:https://atthegateway.com/wp-content/uploads/2018/04/CW-pizza-event.jpg
END:VEVENT
END:VCALENDAR