BEGIN:VCALENDAR
VERSION:2.0
PRODID:-//The Gateway - ECPv6.15.20//NONSGML v1.0//EN
CALSCALE:GREGORIAN
METHOD:PUBLISH
X-WR-CALNAME:The Gateway
X-ORIGINAL-URL:https://atthegateway.com
X-WR-CALDESC:Events for The Gateway
REFRESH-INTERVAL;VALUE=DURATION:PT1H
X-Robots-Tag:noindex
X-PUBLISHED-TTL:PT1H
BEGIN:VTIMEZONE
TZID:America/Denver
BEGIN:DAYLIGHT
TZOFFSETFROM:-0700
TZOFFSETTO:-0600
TZNAME:MDT
DTSTART:20240310T090000
END:DAYLIGHT
BEGIN:STANDARD
TZOFFSETFROM:-0600
TZOFFSETTO:-0700
TZNAME:MST
DTSTART:20241103T080000
END:STANDARD
BEGIN:DAYLIGHT
TZOFFSETFROM:-0700
TZOFFSETTO:-0600
TZNAME:MDT
DTSTART:20250309T090000
END:DAYLIGHT
BEGIN:STANDARD
TZOFFSETFROM:-0600
TZOFFSETTO:-0700
TZNAME:MST
DTSTART:20251102T080000
END:STANDARD
BEGIN:DAYLIGHT
TZOFFSETFROM:-0700
TZOFFSETTO:-0600
TZNAME:MDT
DTSTART:20260308T090000
END:DAYLIGHT
BEGIN:STANDARD
TZOFFSETFROM:-0600
TZOFFSETTO:-0700
TZNAME:MST
DTSTART:20261101T080000
END:STANDARD
END:VTIMEZONE
BEGIN:VEVENT
DTSTART;TZID=America/Denver:20251011T120000
DTEND;TZID=America/Denver:20251011T180000
DTSTAMP:20260419T160415
CREATED:20250813T221253Z
LAST-MODIFIED:20250930T221803Z
UID:60633-1760184000-1760205600@atthegateway.com
SUMMARY:Giant Pumpkinpalooza
DESCRIPTION:The third annual Giant Pumpkinpalooza and Zombie Walk is a family friendly event celebrating the fall harvest and all the things you love about Halloween and October. It is designed to bring the community together to have fun and support local businesses. \nThe Giant Pumpkinpalooza will be held in The Gateway’s Olympic Plaza where the community will be cheering on some of the area’s top pumpkin and vegetable growers as they compete for the coveted orange jacket. \nFestival attendees will also be able to see the creativity of the community in the Zombie Walk and costume contest. Anyone can also participate for free! There will also be fun events like pie eating contests\, soda chugging contests\, dance offs\, and pumpkin bowling.
URL:https://atthegateway.com/calendars/giant-pumpkinpalooza-25/
CATEGORIES:Family-Friendly,Food Event,Holiday Events,Live Music
ATTACH;FMTTYPE=image/jpeg:https://atthegateway.com/wp-content/uploads/2024/07/pumpkinpalooza-36-scaled.jpg
END:VEVENT
BEGIN:VEVENT
DTSTART;TZID=America/Denver:20251011T230000
DTEND;TZID=America/Denver:20251011T230000
DTSTAMP:20260419T160415
CREATED:20251007T213703Z
LAST-MODIFIED:20251007T213740Z
UID:62442-1760223600-1760223600@atthegateway.com
SUMMARY:Red West Official Afterparty at Flanker
DESCRIPTION:The night doesn’t end when the rodeo does\, It kicks into high gear for the Official Redwest After Party. Join us on as we turn up the country heat with a special set by DJ Solo\, spinning country hits and crowd favorites all night long. Saddle up with friends\, grab a drink\, and keep the Redwest energy going at Salt Lake City’s premier nightlife destination. Whether you’re rolling in from the festival or just looking for a wild country night out\, this is where you’ll want to be. Arrive early and make it one for the books. \nTo learn more\, click here.
URL:https://atthegateway.com/calendars/red-west-official-afterparty-at-flanker/
CATEGORIES:Cocktails,Events,Food Event
ATTACH;FMTTYPE=image/jpeg:https://atthegateway.com/wp-content/uploads/2025/10/Red-West.jpg
END:VEVENT
END:VCALENDAR