BEGIN:VCALENDAR
VERSION:2.0
PRODID:-//The Gateway - ECPv6.15.20//NONSGML v1.0//EN
CALSCALE:GREGORIAN
METHOD:PUBLISH
X-ORIGINAL-URL:https://atthegateway.com
X-WR-CALDESC:Events for The Gateway
REFRESH-INTERVAL;VALUE=DURATION:PT1H
X-Robots-Tag:noindex
X-PUBLISHED-TTL:PT1H
BEGIN:VTIMEZONE
TZID:America/Denver
BEGIN:DAYLIGHT
TZOFFSETFROM:-0700
TZOFFSETTO:-0600
TZNAME:MDT
DTSTART:20240310T090000
END:DAYLIGHT
BEGIN:STANDARD
TZOFFSETFROM:-0600
TZOFFSETTO:-0700
TZNAME:MST
DTSTART:20241103T080000
END:STANDARD
BEGIN:DAYLIGHT
TZOFFSETFROM:-0700
TZOFFSETTO:-0600
TZNAME:MDT
DTSTART:20250309T090000
END:DAYLIGHT
BEGIN:STANDARD
TZOFFSETFROM:-0600
TZOFFSETTO:-0700
TZNAME:MST
DTSTART:20251102T080000
END:STANDARD
BEGIN:DAYLIGHT
TZOFFSETFROM:-0700
TZOFFSETTO:-0600
TZNAME:MDT
DTSTART:20260308T090000
END:DAYLIGHT
BEGIN:STANDARD
TZOFFSETFROM:-0600
TZOFFSETTO:-0700
TZNAME:MST
DTSTART:20261101T080000
END:STANDARD
END:VTIMEZONE
BEGIN:VEVENT
DTSTART;TZID=America/Denver:20250830T110000
DTEND;TZID=America/Denver:20250830T120000
DTSTAMP:20260425T043252
CREATED:20250820T211724Z
LAST-MODIFIED:20250820T211724Z
UID:60732-1756551600-1756555200@atthegateway.com
SUMMARY:Scales & Tales at Discovery Gateway Children's Museum
DESCRIPTION:It’s back! Our wildly popular reptile adventure returns this month! \nJoin us for a reptile-filled day of hands-on animal encounters and unforgettable photo ops. At this exciting family event\, you’ll get the chance to have a close encounter with snakes\, lizards\, turtles\, spiders\, scorpions\, and more! Discover fascinating facts\, hold some of these incredible creatures\, and snap photos with your favorites. \nThis special event is included with general admission to the museum.\nWe hope to see you there! \nTo purchase tickets\, click here.
URL:https://atthegateway.com/calendars/scales-tales-at-discovery-gateway-childrens-museum/
CATEGORIES:Events,Family-Friendly,Science
ATTACH;FMTTYPE=image/jpeg:https://atthegateway.com/wp-content/uploads/2025/08/Scales-and-Tales.jpg
END:VEVENT
END:VCALENDAR