BEGIN:VCALENDAR
VERSION:2.0
PRODID:-//The Gateway - ECPv6.15.20//NONSGML v1.0//EN
CALSCALE:GREGORIAN
METHOD:PUBLISH
X-ORIGINAL-URL:https://atthegateway.com
X-WR-CALDESC:Events for The Gateway
REFRESH-INTERVAL;VALUE=DURATION:PT1H
X-Robots-Tag:noindex
X-PUBLISHED-TTL:PT1H
BEGIN:VTIMEZONE
TZID:America/Denver
BEGIN:DAYLIGHT
TZOFFSETFROM:-0700
TZOFFSETTO:-0600
TZNAME:MDT
DTSTART:20210314T090000
END:DAYLIGHT
BEGIN:STANDARD
TZOFFSETFROM:-0600
TZOFFSETTO:-0700
TZNAME:MST
DTSTART:20211107T080000
END:STANDARD
BEGIN:DAYLIGHT
TZOFFSETFROM:-0700
TZOFFSETTO:-0600
TZNAME:MDT
DTSTART:20220313T090000
END:DAYLIGHT
BEGIN:STANDARD
TZOFFSETFROM:-0600
TZOFFSETTO:-0700
TZNAME:MST
DTSTART:20221106T080000
END:STANDARD
BEGIN:DAYLIGHT
TZOFFSETFROM:-0700
TZOFFSETTO:-0600
TZNAME:MDT
DTSTART:20230312T090000
END:DAYLIGHT
BEGIN:STANDARD
TZOFFSETFROM:-0600
TZOFFSETTO:-0700
TZNAME:MST
DTSTART:20231105T080000
END:STANDARD
BEGIN:DAYLIGHT
TZOFFSETFROM:-0700
TZOFFSETTO:-0600
TZNAME:MDT
DTSTART:20240310T090000
END:DAYLIGHT
BEGIN:STANDARD
TZOFFSETFROM:-0600
TZOFFSETTO:-0700
TZNAME:MST
DTSTART:20241103T080000
END:STANDARD
BEGIN:DAYLIGHT
TZOFFSETFROM:-0700
TZOFFSETTO:-0600
TZNAME:MDT
DTSTART:20250309T090000
END:DAYLIGHT
BEGIN:STANDARD
TZOFFSETFROM:-0600
TZOFFSETTO:-0700
TZNAME:MST
DTSTART:20251102T080000
END:STANDARD
BEGIN:DAYLIGHT
TZOFFSETFROM:-0700
TZOFFSETTO:-0600
TZNAME:MDT
DTSTART:20260308T090000
END:DAYLIGHT
BEGIN:STANDARD
TZOFFSETFROM:-0600
TZOFFSETTO:-0700
TZNAME:MST
DTSTART:20261101T080000
END:STANDARD
END:VTIMEZONE
BEGIN:VEVENT
DTSTART;TZID=America/Denver:20250309T193000
DTEND;TZID=America/Denver:20250309T220000
DTSTAMP:20260421T054844
CREATED:20250117T212059Z
LAST-MODIFIED:20250117T212059Z
UID:55840-1741548600-1741557600@atthegateway.com
SUMMARY:PROOF at MadKing's Fellowship Theater
DESCRIPTION:Join MadKing’s Fellowship Theater for their Grand Opening shows of… \nPROOF \nA Pulitzer Prize and Tony Award winning play by David Auburn. Directed by Kristen Stone. \nOn the eve of her twenty-fifth birthday\, Catherine\, a troubled young woman\, has spent years caring for her brilliant but unstable father\, a famous mathematician. Now\, following his death\, she must deal with her own volatile emotions; the arrival of her estranged sister\, Claire; and the attentions of Hal\, a former student of her father’s who hopes to find valuable work in the 103 notebooks that her father left behind. Over the long weekend that follows\, a burgeoning romance and the discovery of a mysterious notebook draw Catherine into the most difficult problem of all: How much of her father’s madness—or genius—will she inherit? \nMultiple showings of PROOF will take place in their brand-new theater\, conveniently located next to Tucanos on the upper level of The Gateway at 167 S. Rio Grande Street. \nClick here to purchase your tickets!
URL:https://atthegateway.com/calendars/proof-at-madkings-fellowship-theater/2025-03-09/2/
CATEGORIES:Arts & Culture,Shows,Theatre
ATTACH;FMTTYPE=image/png:https://atthegateway.com/wp-content/uploads/2025/01/Proof-image.png
END:VEVENT
BEGIN:VEVENT
DTSTART;TZID=America/Denver:20250309T150000
DTEND;TZID=America/Denver:20250309T173000
DTSTAMP:20260421T054844
CREATED:20250117T212059Z
LAST-MODIFIED:20250117T212059Z
UID:55839-1741532400-1741541400@atthegateway.com
SUMMARY:PROOF at MadKing's Fellowship Theater
DESCRIPTION:Join MadKing’s Fellowship Theater for their Grand Opening shows of… \nPROOF \nA Pulitzer Prize and Tony Award winning play by David Auburn. Directed by Kristen Stone. \nOn the eve of her twenty-fifth birthday\, Catherine\, a troubled young woman\, has spent years caring for her brilliant but unstable father\, a famous mathematician. Now\, following his death\, she must deal with her own volatile emotions; the arrival of her estranged sister\, Claire; and the attentions of Hal\, a former student of her father’s who hopes to find valuable work in the 103 notebooks that her father left behind. Over the long weekend that follows\, a burgeoning romance and the discovery of a mysterious notebook draw Catherine into the most difficult problem of all: How much of her father’s madness—or genius—will she inherit? \nMultiple showings of PROOF will take place in their brand-new theater\, conveniently located next to Tucanos on the upper level of The Gateway at 167 S. Rio Grande Street. \nClick here to purchase your tickets!
URL:https://atthegateway.com/calendars/proof-at-madkings-fellowship-theater/2025-03-09/
CATEGORIES:Arts & Culture,Shows,Theatre
ATTACH;FMTTYPE=image/png:https://atthegateway.com/wp-content/uploads/2025/01/Proof-image.png
END:VEVENT
BEGIN:VEVENT
DTSTART;TZID=America/Denver:20250308T193000
DTEND;TZID=America/Denver:20250308T220000
DTSTAMP:20260421T054844
CREATED:20250117T212059Z
LAST-MODIFIED:20250117T212059Z
UID:55838-1741462200-1741471200@atthegateway.com
SUMMARY:PROOF at MadKing's Fellowship Theater
DESCRIPTION:Join MadKing’s Fellowship Theater for their Grand Opening shows of… \nPROOF \nA Pulitzer Prize and Tony Award winning play by David Auburn. Directed by Kristen Stone. \nOn the eve of her twenty-fifth birthday\, Catherine\, a troubled young woman\, has spent years caring for her brilliant but unstable father\, a famous mathematician. Now\, following his death\, she must deal with her own volatile emotions; the arrival of her estranged sister\, Claire; and the attentions of Hal\, a former student of her father’s who hopes to find valuable work in the 103 notebooks that her father left behind. Over the long weekend that follows\, a burgeoning romance and the discovery of a mysterious notebook draw Catherine into the most difficult problem of all: How much of her father’s madness—or genius—will she inherit? \nMultiple showings of PROOF will take place in their brand-new theater\, conveniently located next to Tucanos on the upper level of The Gateway at 167 S. Rio Grande Street. \nClick here to purchase your tickets!
URL:https://atthegateway.com/calendars/proof-at-madkings-fellowship-theater/2025-03-08/2/
CATEGORIES:Arts & Culture,Shows,Theatre
ATTACH;FMTTYPE=image/png:https://atthegateway.com/wp-content/uploads/2025/01/Proof-image.png
END:VEVENT
BEGIN:VEVENT
DTSTART;TZID=America/Denver:20250308T150000
DTEND;TZID=America/Denver:20250308T173000
DTSTAMP:20260421T054844
CREATED:20250117T212059Z
LAST-MODIFIED:20250117T212059Z
UID:55837-1741446000-1741455000@atthegateway.com
SUMMARY:PROOF at MadKing's Fellowship Theater
DESCRIPTION:Join MadKing’s Fellowship Theater for their Grand Opening shows of… \nPROOF \nA Pulitzer Prize and Tony Award winning play by David Auburn. Directed by Kristen Stone. \nOn the eve of her twenty-fifth birthday\, Catherine\, a troubled young woman\, has spent years caring for her brilliant but unstable father\, a famous mathematician. Now\, following his death\, she must deal with her own volatile emotions; the arrival of her estranged sister\, Claire; and the attentions of Hal\, a former student of her father’s who hopes to find valuable work in the 103 notebooks that her father left behind. Over the long weekend that follows\, a burgeoning romance and the discovery of a mysterious notebook draw Catherine into the most difficult problem of all: How much of her father’s madness—or genius—will she inherit? \nMultiple showings of PROOF will take place in their brand-new theater\, conveniently located next to Tucanos on the upper level of The Gateway at 167 S. Rio Grande Street. \nClick here to purchase your tickets!
URL:https://atthegateway.com/calendars/proof-at-madkings-fellowship-theater/2025-03-08/
CATEGORIES:Arts & Culture,Shows,Theatre
ATTACH;FMTTYPE=image/png:https://atthegateway.com/wp-content/uploads/2025/01/Proof-image.png
END:VEVENT
BEGIN:VEVENT
DTSTART;TZID=America/Denver:20250307T193000
DTEND;TZID=America/Denver:20250307T220000
DTSTAMP:20260421T054844
CREATED:20250117T212059Z
LAST-MODIFIED:20250117T212059Z
UID:55836-1741375800-1741384800@atthegateway.com
SUMMARY:PROOF at MadKing's Fellowship Theater
DESCRIPTION:Join MadKing’s Fellowship Theater for their Grand Opening shows of… \nPROOF \nA Pulitzer Prize and Tony Award winning play by David Auburn. Directed by Kristen Stone. \nOn the eve of her twenty-fifth birthday\, Catherine\, a troubled young woman\, has spent years caring for her brilliant but unstable father\, a famous mathematician. Now\, following his death\, she must deal with her own volatile emotions; the arrival of her estranged sister\, Claire; and the attentions of Hal\, a former student of her father’s who hopes to find valuable work in the 103 notebooks that her father left behind. Over the long weekend that follows\, a burgeoning romance and the discovery of a mysterious notebook draw Catherine into the most difficult problem of all: How much of her father’s madness—or genius—will she inherit? \nMultiple showings of PROOF will take place in their brand-new theater\, conveniently located next to Tucanos on the upper level of The Gateway at 167 S. Rio Grande Street. \nClick here to purchase your tickets!
URL:https://atthegateway.com/calendars/proof-at-madkings-fellowship-theater/2025-03-07/
CATEGORIES:Arts & Culture,Shows,Theatre
ATTACH;FMTTYPE=image/png:https://atthegateway.com/wp-content/uploads/2025/01/Proof-image.png
END:VEVENT
BEGIN:VEVENT
DTSTART;TZID=America/Denver:20250302T193000
DTEND;TZID=America/Denver:20250302T220000
DTSTAMP:20260421T054844
CREATED:20250117T212059Z
LAST-MODIFIED:20250117T212059Z
UID:55835-1740943800-1740952800@atthegateway.com
SUMMARY:PROOF at MadKing's Fellowship Theater
DESCRIPTION:Join MadKing’s Fellowship Theater for their Grand Opening shows of… \nPROOF \nA Pulitzer Prize and Tony Award winning play by David Auburn. Directed by Kristen Stone. \nOn the eve of her twenty-fifth birthday\, Catherine\, a troubled young woman\, has spent years caring for her brilliant but unstable father\, a famous mathematician. Now\, following his death\, she must deal with her own volatile emotions; the arrival of her estranged sister\, Claire; and the attentions of Hal\, a former student of her father’s who hopes to find valuable work in the 103 notebooks that her father left behind. Over the long weekend that follows\, a burgeoning romance and the discovery of a mysterious notebook draw Catherine into the most difficult problem of all: How much of her father’s madness—or genius—will she inherit? \nMultiple showings of PROOF will take place in their brand-new theater\, conveniently located next to Tucanos on the upper level of The Gateway at 167 S. Rio Grande Street. \nClick here to purchase your tickets!
URL:https://atthegateway.com/calendars/proof-at-madkings-fellowship-theater/2025-03-02/2/
CATEGORIES:Arts & Culture,Shows,Theatre
ATTACH;FMTTYPE=image/png:https://atthegateway.com/wp-content/uploads/2025/01/Proof-image.png
END:VEVENT
BEGIN:VEVENT
DTSTART;TZID=America/Denver:20250302T150000
DTEND;TZID=America/Denver:20250302T173000
DTSTAMP:20260421T054844
CREATED:20250117T212059Z
LAST-MODIFIED:20250117T212059Z
UID:55834-1740927600-1740936600@atthegateway.com
SUMMARY:PROOF at MadKing's Fellowship Theater
DESCRIPTION:Join MadKing’s Fellowship Theater for their Grand Opening shows of… \nPROOF \nA Pulitzer Prize and Tony Award winning play by David Auburn. Directed by Kristen Stone. \nOn the eve of her twenty-fifth birthday\, Catherine\, a troubled young woman\, has spent years caring for her brilliant but unstable father\, a famous mathematician. Now\, following his death\, she must deal with her own volatile emotions; the arrival of her estranged sister\, Claire; and the attentions of Hal\, a former student of her father’s who hopes to find valuable work in the 103 notebooks that her father left behind. Over the long weekend that follows\, a burgeoning romance and the discovery of a mysterious notebook draw Catherine into the most difficult problem of all: How much of her father’s madness—or genius—will she inherit? \nMultiple showings of PROOF will take place in their brand-new theater\, conveniently located next to Tucanos on the upper level of The Gateway at 167 S. Rio Grande Street. \nClick here to purchase your tickets!
URL:https://atthegateway.com/calendars/proof-at-madkings-fellowship-theater/2025-03-02/
CATEGORIES:Arts & Culture,Shows,Theatre
ATTACH;FMTTYPE=image/png:https://atthegateway.com/wp-content/uploads/2025/01/Proof-image.png
END:VEVENT
BEGIN:VEVENT
DTSTART;TZID=America/Denver:20250301T193000
DTEND;TZID=America/Denver:20250301T220000
DTSTAMP:20260421T054844
CREATED:20250117T212059Z
LAST-MODIFIED:20250117T212059Z
UID:55833-1740857400-1740866400@atthegateway.com
SUMMARY:PROOF at MadKing's Fellowship Theater
DESCRIPTION:Join MadKing’s Fellowship Theater for their Grand Opening shows of… \nPROOF \nA Pulitzer Prize and Tony Award winning play by David Auburn. Directed by Kristen Stone. \nOn the eve of her twenty-fifth birthday\, Catherine\, a troubled young woman\, has spent years caring for her brilliant but unstable father\, a famous mathematician. Now\, following his death\, she must deal with her own volatile emotions; the arrival of her estranged sister\, Claire; and the attentions of Hal\, a former student of her father’s who hopes to find valuable work in the 103 notebooks that her father left behind. Over the long weekend that follows\, a burgeoning romance and the discovery of a mysterious notebook draw Catherine into the most difficult problem of all: How much of her father’s madness—or genius—will she inherit? \nMultiple showings of PROOF will take place in their brand-new theater\, conveniently located next to Tucanos on the upper level of The Gateway at 167 S. Rio Grande Street. \nClick here to purchase your tickets!
URL:https://atthegateway.com/calendars/proof-at-madkings-fellowship-theater/2025-03-01/2/
CATEGORIES:Arts & Culture,Shows,Theatre
ATTACH;FMTTYPE=image/png:https://atthegateway.com/wp-content/uploads/2025/01/Proof-image.png
END:VEVENT
BEGIN:VEVENT
DTSTART;TZID=America/Denver:20250301T150000
DTEND;TZID=America/Denver:20250301T173000
DTSTAMP:20260421T054844
CREATED:20250117T212059Z
LAST-MODIFIED:20250117T212059Z
UID:55832-1740841200-1740850200@atthegateway.com
SUMMARY:PROOF at MadKing's Fellowship Theater
DESCRIPTION:Join MadKing’s Fellowship Theater for their Grand Opening shows of… \nPROOF \nA Pulitzer Prize and Tony Award winning play by David Auburn. Directed by Kristen Stone. \nOn the eve of her twenty-fifth birthday\, Catherine\, a troubled young woman\, has spent years caring for her brilliant but unstable father\, a famous mathematician. Now\, following his death\, she must deal with her own volatile emotions; the arrival of her estranged sister\, Claire; and the attentions of Hal\, a former student of her father’s who hopes to find valuable work in the 103 notebooks that her father left behind. Over the long weekend that follows\, a burgeoning romance and the discovery of a mysterious notebook draw Catherine into the most difficult problem of all: How much of her father’s madness—or genius—will she inherit? \nMultiple showings of PROOF will take place in their brand-new theater\, conveniently located next to Tucanos on the upper level of The Gateway at 167 S. Rio Grande Street. \nClick here to purchase your tickets!
URL:https://atthegateway.com/calendars/proof-at-madkings-fellowship-theater/2025-03-01/
CATEGORIES:Arts & Culture,Shows,Theatre
ATTACH;FMTTYPE=image/png:https://atthegateway.com/wp-content/uploads/2025/01/Proof-image.png
END:VEVENT
BEGIN:VEVENT
DTSTART;TZID=America/Denver:20250228T193000
DTEND;TZID=America/Denver:20250228T220000
DTSTAMP:20260421T054844
CREATED:20250117T212059Z
LAST-MODIFIED:20250117T212059Z
UID:55825-1740771000-1740780000@atthegateway.com
SUMMARY:PROOF at MadKing's Fellowship Theater
DESCRIPTION:Join MadKing’s Fellowship Theater for their Grand Opening shows of… \nPROOF \nA Pulitzer Prize and Tony Award winning play by David Auburn. Directed by Kristen Stone. \nOn the eve of her twenty-fifth birthday\, Catherine\, a troubled young woman\, has spent years caring for her brilliant but unstable father\, a famous mathematician. Now\, following his death\, she must deal with her own volatile emotions; the arrival of her estranged sister\, Claire; and the attentions of Hal\, a former student of her father’s who hopes to find valuable work in the 103 notebooks that her father left behind. Over the long weekend that follows\, a burgeoning romance and the discovery of a mysterious notebook draw Catherine into the most difficult problem of all: How much of her father’s madness—or genius—will she inherit? \nMultiple showings of PROOF will take place in their brand-new theater\, conveniently located next to Tucanos on the upper level of The Gateway at 167 S. Rio Grande Street. \nClick here to purchase your tickets!
URL:https://atthegateway.com/calendars/proof-at-madkings-fellowship-theater/2025-02-28/
CATEGORIES:Arts & Culture,Shows,Theatre
ATTACH;FMTTYPE=image/png:https://atthegateway.com/wp-content/uploads/2025/01/Proof-image.png
END:VEVENT
BEGIN:VEVENT
DTSTART;TZID=America/Denver:20220728T120000
DTEND;TZID=America/Denver:20220807T230000
DTSTAMP:20260421T054844
CREATED:20220627T194755Z
LAST-MODIFIED:20220706T215343Z
UID:44118-1659009600-1659913200@atthegateway.com
SUMMARY:Fringe Festival
DESCRIPTION:Join The Gateway this year for the 8th annual Great Salt Lake Fringe Festival. This 2 week long festival will showcase over 30 performing artists and groups\, with a total of over 200 performances featuring theatre\, dance\, music\, magic\, storytelling\, and more. Fringe shows are original\, uncensored\, and unadjudicated. Bring your friends\, and experience some of Utah’s best theatrical works! \nFor more information\, visit: www.greatsaltlakefringe.org
URL:https://atthegateway.com/calendars/fringe-festival-3/
CATEGORIES:Arts & Culture,Festival,Theatre
ATTACH;FMTTYPE=image/jpeg:https://atthegateway.com/wp-content/uploads/2022/06/fringe.jpg
END:VEVENT
END:VCALENDAR