BEGIN:VCALENDAR
VERSION:2.0
PRODID:-//The Gateway - ECPv6.15.20//NONSGML v1.0//EN
CALSCALE:GREGORIAN
METHOD:PUBLISH
X-ORIGINAL-URL:https://atthegateway.com
X-WR-CALDESC:Events for The Gateway
REFRESH-INTERVAL;VALUE=DURATION:PT1H
X-Robots-Tag:noindex
X-PUBLISHED-TTL:PT1H
BEGIN:VTIMEZONE
TZID:America/Denver
BEGIN:DAYLIGHT
TZOFFSETFROM:-0700
TZOFFSETTO:-0600
TZNAME:MDT
DTSTART:20250309T090000
END:DAYLIGHT
BEGIN:STANDARD
TZOFFSETFROM:-0600
TZOFFSETTO:-0700
TZNAME:MST
DTSTART:20251102T080000
END:STANDARD
BEGIN:DAYLIGHT
TZOFFSETFROM:-0700
TZOFFSETTO:-0600
TZNAME:MDT
DTSTART:20260308T090000
END:DAYLIGHT
BEGIN:STANDARD
TZOFFSETFROM:-0600
TZOFFSETTO:-0700
TZNAME:MST
DTSTART:20261101T080000
END:STANDARD
BEGIN:DAYLIGHT
TZOFFSETFROM:-0700
TZOFFSETTO:-0600
TZNAME:MDT
DTSTART:20270314T090000
END:DAYLIGHT
BEGIN:STANDARD
TZOFFSETFROM:-0600
TZOFFSETTO:-0700
TZNAME:MST
DTSTART:20271107T080000
END:STANDARD
END:VTIMEZONE
BEGIN:VEVENT
DTSTART;TZID=America/Denver:20260508T183000
DTEND;TZID=America/Denver:20260508T210000
DTSTAMP:20260423T032747
CREATED:20260223T215925Z
LAST-MODIFIED:20260223T215925Z
UID:64413-1778265000-1778274000@atthegateway.com
SUMMARY:Connect at Urban Arts Gallery
DESCRIPTION:Connect is a dynamic\, statewide community art program designed to celebrate and nurture the artistic spirit of Utah’s visual artists. From photographers and painters to sculptors and mixed-media creators\, Connect provides a welcoming platform to showcase creativity. Open to all ages\, backgrounds\, and experience levels. Emerging artists\, first-time creators\, and seasoned professionals are all encouraged to participate. Community members are also invited to attend\, enjoy local art\, and vote for their favorite pieces. \nWhat to Expect:\n• Bring up to two pieces of artwork\n• Share a brief artist statement\n• Vote on your favorite pieces\n• Compete for the opportunity to exhibit at the gallery for one month\n• Connect with fellow artists and community members\nArtist Check-In: Register at the gallery to participate.\nBoth artists and patrons may vote. \nLearn more here.
URL:https://atthegateway.com/calendars/connect-at-urban-arts-gallery-3/2026-05-08/
CATEGORIES:Arts & Culture
ATTACH;FMTTYPE=image/png:https://atthegateway.com/wp-content/uploads/2026/02/Share-your-art.png
END:VEVENT
BEGIN:VEVENT
DTSTART;TZID=America/Denver:20260612T183000
DTEND;TZID=America/Denver:20260612T210000
DTSTAMP:20260423T032747
CREATED:20260223T215925Z
LAST-MODIFIED:20260223T215925Z
UID:64414-1781289000-1781298000@atthegateway.com
SUMMARY:Connect at Urban Arts Gallery
DESCRIPTION:Connect is a dynamic\, statewide community art program designed to celebrate and nurture the artistic spirit of Utah’s visual artists. From photographers and painters to sculptors and mixed-media creators\, Connect provides a welcoming platform to showcase creativity. Open to all ages\, backgrounds\, and experience levels. Emerging artists\, first-time creators\, and seasoned professionals are all encouraged to participate. Community members are also invited to attend\, enjoy local art\, and vote for their favorite pieces. \nWhat to Expect:\n• Bring up to two pieces of artwork\n• Share a brief artist statement\n• Vote on your favorite pieces\n• Compete for the opportunity to exhibit at the gallery for one month\n• Connect with fellow artists and community members\nArtist Check-In: Register at the gallery to participate.\nBoth artists and patrons may vote. \nLearn more here.
URL:https://atthegateway.com/calendars/connect-at-urban-arts-gallery-3/2026-06-12/
CATEGORIES:Arts & Culture
ATTACH;FMTTYPE=image/png:https://atthegateway.com/wp-content/uploads/2026/02/Share-your-art.png
END:VEVENT
BEGIN:VEVENT
DTSTART;TZID=America/Denver:20260710T183000
DTEND;TZID=America/Denver:20260710T210000
DTSTAMP:20260423T032747
CREATED:20260223T215925Z
LAST-MODIFIED:20260223T215925Z
UID:64415-1783708200-1783717200@atthegateway.com
SUMMARY:Connect at Urban Arts Gallery
DESCRIPTION:Connect is a dynamic\, statewide community art program designed to celebrate and nurture the artistic spirit of Utah’s visual artists. From photographers and painters to sculptors and mixed-media creators\, Connect provides a welcoming platform to showcase creativity. Open to all ages\, backgrounds\, and experience levels. Emerging artists\, first-time creators\, and seasoned professionals are all encouraged to participate. Community members are also invited to attend\, enjoy local art\, and vote for their favorite pieces. \nWhat to Expect:\n• Bring up to two pieces of artwork\n• Share a brief artist statement\n• Vote on your favorite pieces\n• Compete for the opportunity to exhibit at the gallery for one month\n• Connect with fellow artists and community members\nArtist Check-In: Register at the gallery to participate.\nBoth artists and patrons may vote. \nLearn more here.
URL:https://atthegateway.com/calendars/connect-at-urban-arts-gallery-3/2026-07-10/
CATEGORIES:Arts & Culture
ATTACH;FMTTYPE=image/png:https://atthegateway.com/wp-content/uploads/2026/02/Share-your-art.png
END:VEVENT
BEGIN:VEVENT
DTSTART;TZID=America/Denver:20260814T183000
DTEND;TZID=America/Denver:20260814T210000
DTSTAMP:20260423T032747
CREATED:20260223T215925Z
LAST-MODIFIED:20260223T215925Z
UID:64416-1786732200-1786741200@atthegateway.com
SUMMARY:Connect at Urban Arts Gallery
DESCRIPTION:Connect is a dynamic\, statewide community art program designed to celebrate and nurture the artistic spirit of Utah’s visual artists. From photographers and painters to sculptors and mixed-media creators\, Connect provides a welcoming platform to showcase creativity. Open to all ages\, backgrounds\, and experience levels. Emerging artists\, first-time creators\, and seasoned professionals are all encouraged to participate. Community members are also invited to attend\, enjoy local art\, and vote for their favorite pieces. \nWhat to Expect:\n• Bring up to two pieces of artwork\n• Share a brief artist statement\n• Vote on your favorite pieces\n• Compete for the opportunity to exhibit at the gallery for one month\n• Connect with fellow artists and community members\nArtist Check-In: Register at the gallery to participate.\nBoth artists and patrons may vote. \nLearn more here.
URL:https://atthegateway.com/calendars/connect-at-urban-arts-gallery-3/2026-08-14/
CATEGORIES:Arts & Culture
ATTACH;FMTTYPE=image/png:https://atthegateway.com/wp-content/uploads/2026/02/Share-your-art.png
END:VEVENT
BEGIN:VEVENT
DTSTART;TZID=America/Denver:20260911T183000
DTEND;TZID=America/Denver:20260911T210000
DTSTAMP:20260423T032747
CREATED:20260223T215925Z
LAST-MODIFIED:20260223T215925Z
UID:64417-1789151400-1789160400@atthegateway.com
SUMMARY:Connect at Urban Arts Gallery
DESCRIPTION:Connect is a dynamic\, statewide community art program designed to celebrate and nurture the artistic spirit of Utah’s visual artists. From photographers and painters to sculptors and mixed-media creators\, Connect provides a welcoming platform to showcase creativity. Open to all ages\, backgrounds\, and experience levels. Emerging artists\, first-time creators\, and seasoned professionals are all encouraged to participate. Community members are also invited to attend\, enjoy local art\, and vote for their favorite pieces. \nWhat to Expect:\n• Bring up to two pieces of artwork\n• Share a brief artist statement\n• Vote on your favorite pieces\n• Compete for the opportunity to exhibit at the gallery for one month\n• Connect with fellow artists and community members\nArtist Check-In: Register at the gallery to participate.\nBoth artists and patrons may vote. \nLearn more here.
URL:https://atthegateway.com/calendars/connect-at-urban-arts-gallery-3/2026-09-11/
CATEGORIES:Arts & Culture
ATTACH;FMTTYPE=image/png:https://atthegateway.com/wp-content/uploads/2026/02/Share-your-art.png
END:VEVENT
BEGIN:VEVENT
DTSTART;TZID=America/Denver:20261009T183000
DTEND;TZID=America/Denver:20261009T210000
DTSTAMP:20260423T032747
CREATED:20260223T215925Z
LAST-MODIFIED:20260223T215925Z
UID:64418-1791570600-1791579600@atthegateway.com
SUMMARY:Connect at Urban Arts Gallery
DESCRIPTION:Connect is a dynamic\, statewide community art program designed to celebrate and nurture the artistic spirit of Utah’s visual artists. From photographers and painters to sculptors and mixed-media creators\, Connect provides a welcoming platform to showcase creativity. Open to all ages\, backgrounds\, and experience levels. Emerging artists\, first-time creators\, and seasoned professionals are all encouraged to participate. Community members are also invited to attend\, enjoy local art\, and vote for their favorite pieces. \nWhat to Expect:\n• Bring up to two pieces of artwork\n• Share a brief artist statement\n• Vote on your favorite pieces\n• Compete for the opportunity to exhibit at the gallery for one month\n• Connect with fellow artists and community members\nArtist Check-In: Register at the gallery to participate.\nBoth artists and patrons may vote. \nLearn more here.
URL:https://atthegateway.com/calendars/connect-at-urban-arts-gallery-3/2026-10-09/
CATEGORIES:Arts & Culture
ATTACH;FMTTYPE=image/png:https://atthegateway.com/wp-content/uploads/2026/02/Share-your-art.png
END:VEVENT
BEGIN:VEVENT
DTSTART;TZID=America/Denver:20261113T183000
DTEND;TZID=America/Denver:20261113T210000
DTSTAMP:20260423T032747
CREATED:20260223T215925Z
LAST-MODIFIED:20260223T215925Z
UID:64419-1794594600-1794603600@atthegateway.com
SUMMARY:Connect at Urban Arts Gallery
DESCRIPTION:Connect is a dynamic\, statewide community art program designed to celebrate and nurture the artistic spirit of Utah’s visual artists. From photographers and painters to sculptors and mixed-media creators\, Connect provides a welcoming platform to showcase creativity. Open to all ages\, backgrounds\, and experience levels. Emerging artists\, first-time creators\, and seasoned professionals are all encouraged to participate. Community members are also invited to attend\, enjoy local art\, and vote for their favorite pieces. \nWhat to Expect:\n• Bring up to two pieces of artwork\n• Share a brief artist statement\n• Vote on your favorite pieces\n• Compete for the opportunity to exhibit at the gallery for one month\n• Connect with fellow artists and community members\nArtist Check-In: Register at the gallery to participate.\nBoth artists and patrons may vote. \nLearn more here.
URL:https://atthegateway.com/calendars/connect-at-urban-arts-gallery-3/2026-11-13/
CATEGORIES:Arts & Culture
ATTACH;FMTTYPE=image/png:https://atthegateway.com/wp-content/uploads/2026/02/Share-your-art.png
END:VEVENT
BEGIN:VEVENT
DTSTART;TZID=America/Denver:20261211T183000
DTEND;TZID=America/Denver:20261211T210000
DTSTAMP:20260423T032747
CREATED:20260223T215925Z
LAST-MODIFIED:20260223T215925Z
UID:64420-1797013800-1797022800@atthegateway.com
SUMMARY:Connect at Urban Arts Gallery
DESCRIPTION:Connect is a dynamic\, statewide community art program designed to celebrate and nurture the artistic spirit of Utah’s visual artists. From photographers and painters to sculptors and mixed-media creators\, Connect provides a welcoming platform to showcase creativity. Open to all ages\, backgrounds\, and experience levels. Emerging artists\, first-time creators\, and seasoned professionals are all encouraged to participate. Community members are also invited to attend\, enjoy local art\, and vote for their favorite pieces. \nWhat to Expect:\n• Bring up to two pieces of artwork\n• Share a brief artist statement\n• Vote on your favorite pieces\n• Compete for the opportunity to exhibit at the gallery for one month\n• Connect with fellow artists and community members\nArtist Check-In: Register at the gallery to participate.\nBoth artists and patrons may vote. \nLearn more here.
URL:https://atthegateway.com/calendars/connect-at-urban-arts-gallery-3/2026-12-11/
CATEGORIES:Arts & Culture
ATTACH;FMTTYPE=image/png:https://atthegateway.com/wp-content/uploads/2026/02/Share-your-art.png
END:VEVENT
END:VCALENDAR