BEGIN:VCALENDAR
VERSION:2.0
PRODID:-//The Gateway - ECPv6.15.20//NONSGML v1.0//EN
CALSCALE:GREGORIAN
METHOD:PUBLISH
X-ORIGINAL-URL:https://atthegateway.com
X-WR-CALDESC:Events for The Gateway
REFRESH-INTERVAL;VALUE=DURATION:PT1H
X-Robots-Tag:noindex
X-PUBLISHED-TTL:PT1H
BEGIN:VTIMEZONE
TZID:America/Denver
BEGIN:DAYLIGHT
TZOFFSETFROM:-0700
TZOFFSETTO:-0600
TZNAME:MDT
DTSTART:20190310T090000
END:DAYLIGHT
BEGIN:STANDARD
TZOFFSETFROM:-0600
TZOFFSETTO:-0700
TZNAME:MST
DTSTART:20191103T080000
END:STANDARD
BEGIN:DAYLIGHT
TZOFFSETFROM:-0700
TZOFFSETTO:-0600
TZNAME:MDT
DTSTART:20200308T090000
END:DAYLIGHT
BEGIN:STANDARD
TZOFFSETFROM:-0600
TZOFFSETTO:-0700
TZNAME:MST
DTSTART:20201101T080000
END:STANDARD
BEGIN:DAYLIGHT
TZOFFSETFROM:-0700
TZOFFSETTO:-0600
TZNAME:MDT
DTSTART:20210314T090000
END:DAYLIGHT
BEGIN:STANDARD
TZOFFSETFROM:-0600
TZOFFSETTO:-0700
TZNAME:MST
DTSTART:20211107T080000
END:STANDARD
END:VTIMEZONE
BEGIN:VEVENT
DTSTART;TZID=America/Denver:20201003T173000
DTEND;TZID=America/Denver:20201003T210000
DTSTAMP:20260422T030242
CREATED:20200908T195207Z
LAST-MODIFIED:20200908T225358Z
UID:33062-1601746200-1601758800@atthegateway.com
SUMMARY:Gateway Halloween Nights
DESCRIPTION:Join us as we celebrate Halloween all month long! Every Saturday in October\, we will be showing your favorite classic Halloween films\, along with fun contests\, a photo booth and much more\, on the Olympic Plaza at The Gateway. \nBring a blanket or low camping chairs and remember to grab take-out food from one of your favorite restaurants at The Gateway. We will keep you warm by setting out heaters throughout the event area. \nThis is a free event but preregistration is required for each movie night through Eventbrite as space is limited. Each ticket reservation will be given an assigned market spot on The Plaza. Each ticket reservation and therefore\, per spot\, will fit up to 6 people total. Please specify the number of people in your party when you make the reservation by selecting the number of tickets you need at checkout (up to 6 tickets per 1 reservation/name).\nSpots will be assigned at check-in so be sure to arrive early! \n*If the date is sold out\, add yourself to the wait-list. New tickets will be released the week of the event. \n**If you preregister but are unable to make it\, PLEASE cancel your reservation on Eventbrite so others are able to attend! No shows will have their future movie reservations cancelled and will have to re-register for tickets. \nGET TICKETS HERE\nSocially Distant Event Guideline: \n\nSpots will be 6 ft apart from each other.\nMust bring a mask and wear it if you are moving through event area. You can remove it once you are seated in designated spot.\nHand sanitizer stations will be available in event area.\nRestrooms nearby will available.\n\n***In case of inclement weather\, we will move the movie indoors into our 12\,000 sq. ft. space following appropriate guidelines. \nNo coolers or alcoholic beverages are allowed. We encourage you to order takeout from one of the many restaurants at The Gateway to help support them. \nPlaza opens for ticket holders at 5:30 p.m. for check in. Contest begins at 6:15 p.m. Film begins at  7:00 p.m. (ish). \nCostumes welcome! Best costume prizes awarded each night. \nMovie lineup:\n10/3 Hocus Pocus\n10/10 The Nightmare Before Christmas\n10/17 Labyrinth\n10/24 Beetlejuice\n10/31 You will pick the movie! That’s right. The week of October 28-30th you will vote on our social channels for what movie you want to watch on Halloween night! Follow us @atthegateway to vote.
URL:https://atthegateway.com/calendars/gatewayhalloween2020/2020-10-03/
CATEGORIES:Family-Friendly,Movie Nights
ATTACH;FMTTYPE=image/jpeg:https://atthegateway.com/wp-content/uploads/2020/09/GATE_HallowMovie820_960x640_1.jpg
END:VEVENT
END:VCALENDAR