BEGIN:VCALENDAR
VERSION:2.0
PRODID:-//The Gateway - ECPv6.15.20//NONSGML v1.0//EN
CALSCALE:GREGORIAN
METHOD:PUBLISH
X-WR-CALNAME:The Gateway
X-ORIGINAL-URL:https://atthegateway.com
X-WR-CALDESC:Events for The Gateway
REFRESH-INTERVAL;VALUE=DURATION:PT1H
X-Robots-Tag:noindex
X-PUBLISHED-TTL:PT1H
BEGIN:VTIMEZONE
TZID:America/Denver
BEGIN:DAYLIGHT
TZOFFSETFROM:-0700
TZOFFSETTO:-0600
TZNAME:MDT
DTSTART:20250309T090000
END:DAYLIGHT
BEGIN:STANDARD
TZOFFSETFROM:-0600
TZOFFSETTO:-0700
TZNAME:MST
DTSTART:20251102T080000
END:STANDARD
BEGIN:DAYLIGHT
TZOFFSETFROM:-0700
TZOFFSETTO:-0600
TZNAME:MDT
DTSTART:20260308T090000
END:DAYLIGHT
BEGIN:STANDARD
TZOFFSETFROM:-0600
TZOFFSETTO:-0700
TZNAME:MST
DTSTART:20261101T080000
END:STANDARD
BEGIN:DAYLIGHT
TZOFFSETFROM:-0700
TZOFFSETTO:-0600
TZNAME:MDT
DTSTART:20270314T090000
END:DAYLIGHT
BEGIN:STANDARD
TZOFFSETFROM:-0600
TZOFFSETTO:-0700
TZNAME:MST
DTSTART:20271107T080000
END:STANDARD
END:VTIMEZONE
BEGIN:VEVENT
DTSTART;TZID=America/Denver:20260520T183000
DTEND;TZID=America/Denver:20260520T203000
DTSTAMP:20260421T074042
CREATED:20260223T215646Z
LAST-MODIFIED:20260223T215646Z
UID:64403-1779301800-1779309000@atthegateway.com
SUMMARY:Grow: A Critique Group for Artists
DESCRIPTION:Looking to grow and refine your artistic practice?\nGrow is a community-centered critique group where artists give and receive thoughtful feedback\, learn from one another\, and leave feeling inspired and supported. Hosted by local artist Jason Hanson\, this free event connects artists of all backgrounds and skill levels in a collaborative\, encouraging environment focused on growth.\nWhat to Expect:\n• Bring a finished or in-progress artwork (any medium)\n• Share a brief artist statement\n• Receive constructive feedback\n• Offer insights and perspectives to fellow artists\n• Network and engage in meaningful art discussions \nNo registration required. Free and open to all artists.\nLearn more here.
URL:https://atthegateway.com/calendars/grow-a-critique-group-for-artists-2/2026-05-20/
CATEGORIES:Arts & Culture
ATTACH;FMTTYPE=image/png:https://atthegateway.com/wp-content/uploads/2026/02/Grow.png
END:VEVENT
BEGIN:VEVENT
DTSTART;TZID=America/Denver:20260617T183000
DTEND;TZID=America/Denver:20260617T203000
DTSTAMP:20260421T074042
CREATED:20260223T215646Z
LAST-MODIFIED:20260223T215646Z
UID:64404-1781721000-1781728200@atthegateway.com
SUMMARY:Grow: A Critique Group for Artists
DESCRIPTION:Looking to grow and refine your artistic practice?\nGrow is a community-centered critique group where artists give and receive thoughtful feedback\, learn from one another\, and leave feeling inspired and supported. Hosted by local artist Jason Hanson\, this free event connects artists of all backgrounds and skill levels in a collaborative\, encouraging environment focused on growth.\nWhat to Expect:\n• Bring a finished or in-progress artwork (any medium)\n• Share a brief artist statement\n• Receive constructive feedback\n• Offer insights and perspectives to fellow artists\n• Network and engage in meaningful art discussions \nNo registration required. Free and open to all artists.\nLearn more here.
URL:https://atthegateway.com/calendars/grow-a-critique-group-for-artists-2/2026-06-17/
CATEGORIES:Arts & Culture
ATTACH;FMTTYPE=image/png:https://atthegateway.com/wp-content/uploads/2026/02/Grow.png
END:VEVENT
BEGIN:VEVENT
DTSTART;TZID=America/Denver:20260715T183000
DTEND;TZID=America/Denver:20260715T203000
DTSTAMP:20260421T074042
CREATED:20260223T215646Z
LAST-MODIFIED:20260223T215646Z
UID:64405-1784140200-1784147400@atthegateway.com
SUMMARY:Grow: A Critique Group for Artists
DESCRIPTION:Looking to grow and refine your artistic practice?\nGrow is a community-centered critique group where artists give and receive thoughtful feedback\, learn from one another\, and leave feeling inspired and supported. Hosted by local artist Jason Hanson\, this free event connects artists of all backgrounds and skill levels in a collaborative\, encouraging environment focused on growth.\nWhat to Expect:\n• Bring a finished or in-progress artwork (any medium)\n• Share a brief artist statement\n• Receive constructive feedback\n• Offer insights and perspectives to fellow artists\n• Network and engage in meaningful art discussions \nNo registration required. Free and open to all artists.\nLearn more here.
URL:https://atthegateway.com/calendars/grow-a-critique-group-for-artists-2/2026-07-15/
CATEGORIES:Arts & Culture
ATTACH;FMTTYPE=image/png:https://atthegateway.com/wp-content/uploads/2026/02/Grow.png
END:VEVENT
BEGIN:VEVENT
DTSTART;TZID=America/Denver:20260819T183000
DTEND;TZID=America/Denver:20260819T203000
DTSTAMP:20260421T074042
CREATED:20260223T215646Z
LAST-MODIFIED:20260223T215646Z
UID:64406-1787164200-1787171400@atthegateway.com
SUMMARY:Grow: A Critique Group for Artists
DESCRIPTION:Looking to grow and refine your artistic practice?\nGrow is a community-centered critique group where artists give and receive thoughtful feedback\, learn from one another\, and leave feeling inspired and supported. Hosted by local artist Jason Hanson\, this free event connects artists of all backgrounds and skill levels in a collaborative\, encouraging environment focused on growth.\nWhat to Expect:\n• Bring a finished or in-progress artwork (any medium)\n• Share a brief artist statement\n• Receive constructive feedback\n• Offer insights and perspectives to fellow artists\n• Network and engage in meaningful art discussions \nNo registration required. Free and open to all artists.\nLearn more here.
URL:https://atthegateway.com/calendars/grow-a-critique-group-for-artists-2/2026-08-19/
CATEGORIES:Arts & Culture
ATTACH;FMTTYPE=image/png:https://atthegateway.com/wp-content/uploads/2026/02/Grow.png
END:VEVENT
BEGIN:VEVENT
DTSTART;TZID=America/Denver:20260916T183000
DTEND;TZID=America/Denver:20260916T203000
DTSTAMP:20260421T074042
CREATED:20260223T215646Z
LAST-MODIFIED:20260223T215646Z
UID:64407-1789583400-1789590600@atthegateway.com
SUMMARY:Grow: A Critique Group for Artists
DESCRIPTION:Looking to grow and refine your artistic practice?\nGrow is a community-centered critique group where artists give and receive thoughtful feedback\, learn from one another\, and leave feeling inspired and supported. Hosted by local artist Jason Hanson\, this free event connects artists of all backgrounds and skill levels in a collaborative\, encouraging environment focused on growth.\nWhat to Expect:\n• Bring a finished or in-progress artwork (any medium)\n• Share a brief artist statement\n• Receive constructive feedback\n• Offer insights and perspectives to fellow artists\n• Network and engage in meaningful art discussions \nNo registration required. Free and open to all artists.\nLearn more here.
URL:https://atthegateway.com/calendars/grow-a-critique-group-for-artists-2/2026-09-16/
CATEGORIES:Arts & Culture
ATTACH;FMTTYPE=image/png:https://atthegateway.com/wp-content/uploads/2026/02/Grow.png
END:VEVENT
BEGIN:VEVENT
DTSTART;TZID=America/Denver:20261021T183000
DTEND;TZID=America/Denver:20261021T203000
DTSTAMP:20260421T074042
CREATED:20260223T215646Z
LAST-MODIFIED:20260223T215646Z
UID:64408-1792607400-1792614600@atthegateway.com
SUMMARY:Grow: A Critique Group for Artists
DESCRIPTION:Looking to grow and refine your artistic practice?\nGrow is a community-centered critique group where artists give and receive thoughtful feedback\, learn from one another\, and leave feeling inspired and supported. Hosted by local artist Jason Hanson\, this free event connects artists of all backgrounds and skill levels in a collaborative\, encouraging environment focused on growth.\nWhat to Expect:\n• Bring a finished or in-progress artwork (any medium)\n• Share a brief artist statement\n• Receive constructive feedback\n• Offer insights and perspectives to fellow artists\n• Network and engage in meaningful art discussions \nNo registration required. Free and open to all artists.\nLearn more here.
URL:https://atthegateway.com/calendars/grow-a-critique-group-for-artists-2/2026-10-21/
CATEGORIES:Arts & Culture
ATTACH;FMTTYPE=image/png:https://atthegateway.com/wp-content/uploads/2026/02/Grow.png
END:VEVENT
BEGIN:VEVENT
DTSTART;TZID=America/Denver:20261118T183000
DTEND;TZID=America/Denver:20261118T203000
DTSTAMP:20260421T074042
CREATED:20260223T215646Z
LAST-MODIFIED:20260223T215646Z
UID:64409-1795026600-1795033800@atthegateway.com
SUMMARY:Grow: A Critique Group for Artists
DESCRIPTION:Looking to grow and refine your artistic practice?\nGrow is a community-centered critique group where artists give and receive thoughtful feedback\, learn from one another\, and leave feeling inspired and supported. Hosted by local artist Jason Hanson\, this free event connects artists of all backgrounds and skill levels in a collaborative\, encouraging environment focused on growth.\nWhat to Expect:\n• Bring a finished or in-progress artwork (any medium)\n• Share a brief artist statement\n• Receive constructive feedback\n• Offer insights and perspectives to fellow artists\n• Network and engage in meaningful art discussions \nNo registration required. Free and open to all artists.\nLearn more here.
URL:https://atthegateway.com/calendars/grow-a-critique-group-for-artists-2/2026-11-18/
CATEGORIES:Arts & Culture
ATTACH;FMTTYPE=image/png:https://atthegateway.com/wp-content/uploads/2026/02/Grow.png
END:VEVENT
BEGIN:VEVENT
DTSTART;TZID=America/Denver:20261216T183000
DTEND;TZID=America/Denver:20261216T203000
DTSTAMP:20260421T074042
CREATED:20260223T215646Z
LAST-MODIFIED:20260223T215646Z
UID:64410-1797445800-1797453000@atthegateway.com
SUMMARY:Grow: A Critique Group for Artists
DESCRIPTION:Looking to grow and refine your artistic practice?\nGrow is a community-centered critique group where artists give and receive thoughtful feedback\, learn from one another\, and leave feeling inspired and supported. Hosted by local artist Jason Hanson\, this free event connects artists of all backgrounds and skill levels in a collaborative\, encouraging environment focused on growth.\nWhat to Expect:\n• Bring a finished or in-progress artwork (any medium)\n• Share a brief artist statement\n• Receive constructive feedback\n• Offer insights and perspectives to fellow artists\n• Network and engage in meaningful art discussions \nNo registration required. Free and open to all artists.\nLearn more here.
URL:https://atthegateway.com/calendars/grow-a-critique-group-for-artists-2/2026-12-16/
CATEGORIES:Arts & Culture
ATTACH;FMTTYPE=image/png:https://atthegateway.com/wp-content/uploads/2026/02/Grow.png
END:VEVENT
END:VCALENDAR