BEGIN:VCALENDAR
VERSION:2.0
PRODID:-//The Gateway - ECPv6.15.20//NONSGML v1.0//EN
CALSCALE:GREGORIAN
METHOD:PUBLISH
X-WR-CALNAME:The Gateway
X-ORIGINAL-URL:https://atthegateway.com
X-WR-CALDESC:Events for The Gateway
REFRESH-INTERVAL;VALUE=DURATION:PT1H
X-Robots-Tag:noindex
X-PUBLISHED-TTL:PT1H
BEGIN:VTIMEZONE
TZID:America/Denver
BEGIN:DAYLIGHT
TZOFFSETFROM:-0700
TZOFFSETTO:-0600
TZNAME:MDT
DTSTART:20250309T090000
END:DAYLIGHT
BEGIN:STANDARD
TZOFFSETFROM:-0600
TZOFFSETTO:-0700
TZNAME:MST
DTSTART:20251102T080000
END:STANDARD
BEGIN:DAYLIGHT
TZOFFSETFROM:-0700
TZOFFSETTO:-0600
TZNAME:MDT
DTSTART:20260308T090000
END:DAYLIGHT
BEGIN:STANDARD
TZOFFSETFROM:-0600
TZOFFSETTO:-0700
TZNAME:MST
DTSTART:20261101T080000
END:STANDARD
BEGIN:DAYLIGHT
TZOFFSETFROM:-0700
TZOFFSETTO:-0600
TZNAME:MDT
DTSTART:20270314T090000
END:DAYLIGHT
BEGIN:STANDARD
TZOFFSETFROM:-0600
TZOFFSETTO:-0700
TZNAME:MST
DTSTART:20271107T080000
END:STANDARD
END:VTIMEZONE
BEGIN:VEVENT
DTSTART;TZID=America/Denver:20260613T080000
DTEND;TZID=America/Denver:20260613T170000
DTSTAMP:20260421T055657
CREATED:20260223T215416Z
LAST-MODIFIED:20260223T215416Z
UID:64398-1781337600-1781370000@atthegateway.com
SUMMARY:Paint Night: Art Appropriation at Urban Arts Gallery
DESCRIPTION:Join us for a creative and sustainable night of reinvention as we explore Art Appropriation—the art of repurposing existing works to make them your own.\nAll supplies are provided.\nWhat to Expect:\n• Learn art appropriation techniques from a gallery associate\n• Bring an old artwork or use one provided by the gallery\n• Reimagine your piece in your own unique style\n• Connect with fellow art lovers and explore conversations around art and sustainability\nWe can’t wait to create with you.\nLearn more here.
URL:https://atthegateway.com/calendars/paint-night-art-appropriation-at-urban-arts-gallery/2026-06-13/
CATEGORIES:Arts & Culture
ATTACH;FMTTYPE=image/png:https://atthegateway.com/wp-content/uploads/2026/02/Art-Appropriation.png
END:VEVENT
BEGIN:VEVENT
DTSTART;TZID=America/Denver:20260808T080000
DTEND;TZID=America/Denver:20260808T170000
DTSTAMP:20260421T055657
CREATED:20260223T215416Z
LAST-MODIFIED:20260223T215416Z
UID:64399-1786176000-1786208400@atthegateway.com
SUMMARY:Paint Night: Art Appropriation at Urban Arts Gallery
DESCRIPTION:Join us for a creative and sustainable night of reinvention as we explore Art Appropriation—the art of repurposing existing works to make them your own.\nAll supplies are provided.\nWhat to Expect:\n• Learn art appropriation techniques from a gallery associate\n• Bring an old artwork or use one provided by the gallery\n• Reimagine your piece in your own unique style\n• Connect with fellow art lovers and explore conversations around art and sustainability\nWe can’t wait to create with you.\nLearn more here.
URL:https://atthegateway.com/calendars/paint-night-art-appropriation-at-urban-arts-gallery/2026-08-08/
CATEGORIES:Arts & Culture
ATTACH;FMTTYPE=image/png:https://atthegateway.com/wp-content/uploads/2026/02/Art-Appropriation.png
END:VEVENT
BEGIN:VEVENT
DTSTART;TZID=America/Denver:20261010T080000
DTEND;TZID=America/Denver:20261010T170000
DTSTAMP:20260421T055657
CREATED:20260223T215416Z
LAST-MODIFIED:20260223T215416Z
UID:64400-1791619200-1791651600@atthegateway.com
SUMMARY:Paint Night: Art Appropriation at Urban Arts Gallery
DESCRIPTION:Join us for a creative and sustainable night of reinvention as we explore Art Appropriation—the art of repurposing existing works to make them your own.\nAll supplies are provided.\nWhat to Expect:\n• Learn art appropriation techniques from a gallery associate\n• Bring an old artwork or use one provided by the gallery\n• Reimagine your piece in your own unique style\n• Connect with fellow art lovers and explore conversations around art and sustainability\nWe can’t wait to create with you.\nLearn more here.
URL:https://atthegateway.com/calendars/paint-night-art-appropriation-at-urban-arts-gallery/2026-10-10/
CATEGORIES:Arts & Culture
ATTACH;FMTTYPE=image/png:https://atthegateway.com/wp-content/uploads/2026/02/Art-Appropriation.png
END:VEVENT
END:VCALENDAR