BEGIN:VCALENDAR
VERSION:2.0
PRODID:-//The Gateway - ECPv6.15.20//NONSGML v1.0//EN
CALSCALE:GREGORIAN
METHOD:PUBLISH
X-WR-CALNAME:The Gateway
X-ORIGINAL-URL:https://atthegateway.com
X-WR-CALDESC:Events for The Gateway
REFRESH-INTERVAL;VALUE=DURATION:PT1H
X-Robots-Tag:noindex
X-PUBLISHED-TTL:PT1H
BEGIN:VTIMEZONE
TZID:America/Denver
BEGIN:DAYLIGHT
TZOFFSETFROM:-0700
TZOFFSETTO:-0600
TZNAME:MDT
DTSTART:20210314T090000
END:DAYLIGHT
BEGIN:STANDARD
TZOFFSETFROM:-0600
TZOFFSETTO:-0700
TZNAME:MST
DTSTART:20211107T080000
END:STANDARD
BEGIN:DAYLIGHT
TZOFFSETFROM:-0700
TZOFFSETTO:-0600
TZNAME:MDT
DTSTART:20220313T090000
END:DAYLIGHT
BEGIN:STANDARD
TZOFFSETFROM:-0600
TZOFFSETTO:-0700
TZNAME:MST
DTSTART:20221106T080000
END:STANDARD
BEGIN:DAYLIGHT
TZOFFSETFROM:-0700
TZOFFSETTO:-0600
TZNAME:MDT
DTSTART:20230312T090000
END:DAYLIGHT
BEGIN:STANDARD
TZOFFSETFROM:-0600
TZOFFSETTO:-0700
TZNAME:MST
DTSTART:20231105T080000
END:STANDARD
END:VTIMEZONE
BEGIN:VEVENT
DTSTART;TZID=America/Denver:20220525T110000
DTEND;TZID=America/Denver:20220525T150000
DTSTAMP:20260419T060242
CREATED:20220523T224310Z
LAST-MODIFIED:20220613T210640Z
UID:43404-1653476400-1653490800@atthegateway.com
SUMMARY:Sound Bites
DESCRIPTION:Join us Wednesdays at The Gateway for bite-sized concerts on Restaurant Row! Liven up your work week by listening to local musicians while enjoying lunch from Hallpass\, Costa Vida\, and more. Musicians will be performing from 12 p.m. to 2 p.m. throughout the rest of the summer. \nSound Bites Specials: \nBout Time Pub & Grill – $8 Chicken Caesar Salad on Wednesdays.\nSweet Rolled Tacos – Half-priced drinks from 12pm-2pm on Wednesdays (not applicable to smoothies).\nDave and Busters – Half-priced games all day on Wednesdays.\nCosta Vida – Make it a Combo: For any entrée\, add a 22 oz drink and cinnamon tortilla for $2.75\, Wednesdays from 12pm-2pm. \n 
URL:https://atthegateway.com/calendars/sound-bites/2022-05-25/
CATEGORIES:Family-Friendly,Food Event,Live Music
ATTACH;FMTTYPE=image/jpeg:https://atthegateway.com/wp-content/uploads/2022/05/GATE_SoundBites522_960X640_1.jpg
END:VEVENT
END:VCALENDAR