BEGIN:VCALENDAR
VERSION:2.0
PRODID:-//The Gateway - ECPv6.15.20//NONSGML v1.0//EN
CALSCALE:GREGORIAN
METHOD:PUBLISH
X-WR-CALNAME:The Gateway
X-ORIGINAL-URL:https://atthegateway.com
X-WR-CALDESC:Events for The Gateway
REFRESH-INTERVAL;VALUE=DURATION:PT1H
X-Robots-Tag:noindex
X-PUBLISHED-TTL:PT1H
BEGIN:VTIMEZONE
TZID:America/Denver
BEGIN:DAYLIGHT
TZOFFSETFROM:-0700
TZOFFSETTO:-0600
TZNAME:MDT
DTSTART:20240310T090000
END:DAYLIGHT
BEGIN:STANDARD
TZOFFSETFROM:-0600
TZOFFSETTO:-0700
TZNAME:MST
DTSTART:20241103T080000
END:STANDARD
BEGIN:DAYLIGHT
TZOFFSETFROM:-0700
TZOFFSETTO:-0600
TZNAME:MDT
DTSTART:20250309T090000
END:DAYLIGHT
BEGIN:STANDARD
TZOFFSETFROM:-0600
TZOFFSETTO:-0700
TZNAME:MST
DTSTART:20251102T080000
END:STANDARD
BEGIN:DAYLIGHT
TZOFFSETFROM:-0700
TZOFFSETTO:-0600
TZNAME:MDT
DTSTART:20260308T090000
END:DAYLIGHT
BEGIN:STANDARD
TZOFFSETFROM:-0600
TZOFFSETTO:-0700
TZNAME:MST
DTSTART:20261101T080000
END:STANDARD
END:VTIMEZONE
BEGIN:VEVENT
DTSTART;TZID=America/Denver:20250811T190000
DTEND;TZID=America/Denver:20250811T200000
DTSTAMP:20260422T023234
CREATED:20240503T210117Z
LAST-MODIFIED:20240503T210117Z
UID:59025-1754938800-1754942400@atthegateway.com
SUMMARY:Sunset Yoga
DESCRIPTION:End your Monday night right at The Gateway! Join us at The Olympic Plaza for a FREE outdoor yoga class led by our talented yoga instructor Suzy with live music from @djdrewmusic. Yogi’s of any level can loosen up with a selection of beer available for purchase during class.  \nEvery Monday\, at 7:00pm.
URL:https://atthegateway.com/calendars/sunset-yoga-25/2025-08-11/
CATEGORIES:Family-Friendly,Yoga
ATTACH;FMTTYPE=image/jpeg:https://atthegateway.com/wp-content/uploads/2025/04/Sunset-Yoga-2025-Digital-Graphics_Home-block-1.jpg
END:VEVENT
BEGIN:VEVENT
DTSTART;TZID=America/Denver:20250804T190000
DTEND;TZID=America/Denver:20250804T200000
DTSTAMP:20260422T023234
CREATED:20240503T210117Z
LAST-MODIFIED:20240503T210117Z
UID:59024-1754334000-1754337600@atthegateway.com
SUMMARY:Sunset Yoga
DESCRIPTION:End your Monday night right at The Gateway! Join us at The Olympic Plaza for a FREE outdoor yoga class led by our talented yoga instructor Suzy with live music from @djdrewmusic. Yogi’s of any level can loosen up with a selection of beer available for purchase during class.  \nEvery Monday\, at 7:00pm.
URL:https://atthegateway.com/calendars/sunset-yoga-25/2025-08-04/
CATEGORIES:Family-Friendly,Yoga
ATTACH;FMTTYPE=image/jpeg:https://atthegateway.com/wp-content/uploads/2025/04/Sunset-Yoga-2025-Digital-Graphics_Home-block-1.jpg
END:VEVENT
BEGIN:VEVENT
DTSTART;TZID=America/Denver:20250728T190000
DTEND;TZID=America/Denver:20250728T200000
DTSTAMP:20260422T023234
CREATED:20240503T210117Z
LAST-MODIFIED:20240503T210117Z
UID:59023-1753729200-1753732800@atthegateway.com
SUMMARY:Sunset Yoga
DESCRIPTION:End your Monday night right at The Gateway! Join us at The Olympic Plaza for a FREE outdoor yoga class led by our talented yoga instructor Suzy with live music from @djdrewmusic. Yogi’s of any level can loosen up with a selection of beer available for purchase during class.  \nEvery Monday\, at 7:00pm.
URL:https://atthegateway.com/calendars/sunset-yoga-25/2025-07-28/
CATEGORIES:Family-Friendly,Yoga
ATTACH;FMTTYPE=image/jpeg:https://atthegateway.com/wp-content/uploads/2025/04/Sunset-Yoga-2025-Digital-Graphics_Home-block-1.jpg
END:VEVENT
BEGIN:VEVENT
DTSTART;TZID=America/Denver:20250721T190000
DTEND;TZID=America/Denver:20250721T200000
DTSTAMP:20260422T023234
CREATED:20240503T210117Z
LAST-MODIFIED:20240503T210117Z
UID:59022-1753124400-1753128000@atthegateway.com
SUMMARY:Sunset Yoga
DESCRIPTION:End your Monday night right at The Gateway! Join us at The Olympic Plaza for a FREE outdoor yoga class led by our talented yoga instructor Suzy with live music from @djdrewmusic. Yogi’s of any level can loosen up with a selection of beer available for purchase during class.  \nEvery Monday\, at 7:00pm.
URL:https://atthegateway.com/calendars/sunset-yoga-25/2025-07-21/
CATEGORIES:Family-Friendly,Yoga
ATTACH;FMTTYPE=image/jpeg:https://atthegateway.com/wp-content/uploads/2025/04/Sunset-Yoga-2025-Digital-Graphics_Home-block-1.jpg
END:VEVENT
BEGIN:VEVENT
DTSTART;TZID=America/Denver:20250714T190000
DTEND;TZID=America/Denver:20250714T200000
DTSTAMP:20260422T023234
CREATED:20240503T210117Z
LAST-MODIFIED:20240503T210117Z
UID:59021-1752519600-1752523200@atthegateway.com
SUMMARY:Sunset Yoga
DESCRIPTION:End your Monday night right at The Gateway! Join us at The Olympic Plaza for a FREE outdoor yoga class led by our talented yoga instructor Suzy with live music from @djdrewmusic. Yogi’s of any level can loosen up with a selection of beer available for purchase during class.  \nEvery Monday\, at 7:00pm.
URL:https://atthegateway.com/calendars/sunset-yoga-25/2025-07-14/
CATEGORIES:Family-Friendly,Yoga
ATTACH;FMTTYPE=image/jpeg:https://atthegateway.com/wp-content/uploads/2025/04/Sunset-Yoga-2025-Digital-Graphics_Home-block-1.jpg
END:VEVENT
BEGIN:VEVENT
DTSTART;TZID=America/Denver:20250707T190000
DTEND;TZID=America/Denver:20250707T200000
DTSTAMP:20260422T023234
CREATED:20240503T210117Z
LAST-MODIFIED:20240503T210117Z
UID:59020-1751914800-1751918400@atthegateway.com
SUMMARY:Sunset Yoga
DESCRIPTION:End your Monday night right at The Gateway! Join us at The Olympic Plaza for a FREE outdoor yoga class led by our talented yoga instructor Suzy with live music from @djdrewmusic. Yogi’s of any level can loosen up with a selection of beer available for purchase during class.  \nEvery Monday\, at 7:00pm.
URL:https://atthegateway.com/calendars/sunset-yoga-25/2025-07-07/
CATEGORIES:Family-Friendly,Yoga
ATTACH;FMTTYPE=image/jpeg:https://atthegateway.com/wp-content/uploads/2025/04/Sunset-Yoga-2025-Digital-Graphics_Home-block-1.jpg
END:VEVENT
BEGIN:VEVENT
DTSTART;TZID=America/Denver:20250630T190000
DTEND;TZID=America/Denver:20250630T200000
DTSTAMP:20260422T023234
CREATED:20240503T210117Z
LAST-MODIFIED:20240503T210117Z
UID:59019-1751310000-1751313600@atthegateway.com
SUMMARY:Sunset Yoga
DESCRIPTION:End your Monday night right at The Gateway! Join us at The Olympic Plaza for a FREE outdoor yoga class led by our talented yoga instructor Suzy with live music from @djdrewmusic. Yogi’s of any level can loosen up with a selection of beer available for purchase during class.  \nEvery Monday\, at 7:00pm.
URL:https://atthegateway.com/calendars/sunset-yoga-25/2025-06-30/
CATEGORIES:Family-Friendly,Yoga
ATTACH;FMTTYPE=image/jpeg:https://atthegateway.com/wp-content/uploads/2025/04/Sunset-Yoga-2025-Digital-Graphics_Home-block-1.jpg
END:VEVENT
BEGIN:VEVENT
DTSTART;TZID=America/Denver:20250623T190000
DTEND;TZID=America/Denver:20250623T200000
DTSTAMP:20260422T023234
CREATED:20240503T210117Z
LAST-MODIFIED:20240503T210117Z
UID:59018-1750705200-1750708800@atthegateway.com
SUMMARY:Sunset Yoga
DESCRIPTION:End your Monday night right at The Gateway! Join us at The Olympic Plaza for a FREE outdoor yoga class led by our talented yoga instructor Suzy with live music from @djdrewmusic. Yogi’s of any level can loosen up with a selection of beer available for purchase during class.  \nEvery Monday\, at 7:00pm.
URL:https://atthegateway.com/calendars/sunset-yoga-25/2025-06-23/
CATEGORIES:Family-Friendly,Yoga
ATTACH;FMTTYPE=image/jpeg:https://atthegateway.com/wp-content/uploads/2025/04/Sunset-Yoga-2025-Digital-Graphics_Home-block-1.jpg
END:VEVENT
BEGIN:VEVENT
DTSTART;TZID=America/Denver:20250616T190000
DTEND;TZID=America/Denver:20250616T200000
DTSTAMP:20260422T023234
CREATED:20240503T210117Z
LAST-MODIFIED:20240503T210117Z
UID:59017-1750100400-1750104000@atthegateway.com
SUMMARY:Sunset Yoga
DESCRIPTION:End your Monday night right at The Gateway! Join us at The Olympic Plaza for a FREE outdoor yoga class led by our talented yoga instructor Suzy with live music from @djdrewmusic. Yogi’s of any level can loosen up with a selection of beer available for purchase during class.  \nEvery Monday\, at 7:00pm.
URL:https://atthegateway.com/calendars/sunset-yoga-25/2025-06-16/
CATEGORIES:Family-Friendly,Yoga
ATTACH;FMTTYPE=image/jpeg:https://atthegateway.com/wp-content/uploads/2025/04/Sunset-Yoga-2025-Digital-Graphics_Home-block-1.jpg
END:VEVENT
BEGIN:VEVENT
DTSTART;TZID=America/Denver:20250609T190000
DTEND;TZID=America/Denver:20250609T200000
DTSTAMP:20260422T023234
CREATED:20240503T210117Z
LAST-MODIFIED:20240503T210117Z
UID:59016-1749495600-1749499200@atthegateway.com
SUMMARY:Sunset Yoga
DESCRIPTION:End your Monday night right at The Gateway! Join us at The Olympic Plaza for a FREE outdoor yoga class led by our talented yoga instructor Suzy with live music from @djdrewmusic. Yogi’s of any level can loosen up with a selection of beer available for purchase during class.  \nEvery Monday\, at 7:00pm.
URL:https://atthegateway.com/calendars/sunset-yoga-25/2025-06-09/
CATEGORIES:Family-Friendly,Yoga
ATTACH;FMTTYPE=image/jpeg:https://atthegateway.com/wp-content/uploads/2025/04/Sunset-Yoga-2025-Digital-Graphics_Home-block-1.jpg
END:VEVENT
BEGIN:VEVENT
DTSTART;TZID=America/Denver:20250602T190000
DTEND;TZID=America/Denver:20250602T200000
DTSTAMP:20260422T023234
CREATED:20240503T210117Z
LAST-MODIFIED:20240503T210117Z
UID:59015-1748890800-1748894400@atthegateway.com
SUMMARY:Sunset Yoga
DESCRIPTION:End your Monday night right at The Gateway! Join us at The Olympic Plaza for a FREE outdoor yoga class led by our talented yoga instructor Suzy with live music from @djdrewmusic. Yogi’s of any level can loosen up with a selection of beer available for purchase during class.  \nEvery Monday\, at 7:00pm.
URL:https://atthegateway.com/calendars/sunset-yoga-25/2025-06-02/
CATEGORIES:Family-Friendly,Yoga
ATTACH;FMTTYPE=image/jpeg:https://atthegateway.com/wp-content/uploads/2025/04/Sunset-Yoga-2025-Digital-Graphics_Home-block-1.jpg
END:VEVENT
BEGIN:VEVENT
DTSTART;TZID=America/Denver:20250526T190000
DTEND;TZID=America/Denver:20250526T200000
DTSTAMP:20260422T023234
CREATED:20240503T210117Z
LAST-MODIFIED:20250623T172755Z
UID:53568-1748286000-1748289600@atthegateway.com
SUMMARY:Sunset Yoga
DESCRIPTION:End your Monday night right at The Gateway! Join us at The Olympic Plaza for a FREE outdoor yoga class led by our talented yoga instructor Suzy with live music from @djdrewmusic. Yogi’s of any level can loosen up with a selection of beer available for purchase during class.  \nEvery Monday\, at 7:00pm.
URL:https://atthegateway.com/calendars/sunset-yoga-25/2025-05-26/
CATEGORIES:Family-Friendly,Yoga
ATTACH;FMTTYPE=image/jpeg:https://atthegateway.com/wp-content/uploads/2025/04/Sunset-Yoga-2025-Digital-Graphics_Home-block-1.jpg
END:VEVENT
END:VCALENDAR