BEGIN:VCALENDAR
VERSION:2.0
PRODID:-//The Gateway - ECPv6.15.20//NONSGML v1.0//EN
CALSCALE:GREGORIAN
METHOD:PUBLISH
X-ORIGINAL-URL:https://atthegateway.com
X-WR-CALDESC:Events for The Gateway
REFRESH-INTERVAL;VALUE=DURATION:PT1H
X-Robots-Tag:noindex
X-PUBLISHED-TTL:PT1H
BEGIN:VTIMEZONE
TZID:America/Denver
BEGIN:DAYLIGHT
TZOFFSETFROM:-0700
TZOFFSETTO:-0600
TZNAME:MDT
DTSTART:20190310T090000
END:DAYLIGHT
BEGIN:STANDARD
TZOFFSETFROM:-0600
TZOFFSETTO:-0700
TZNAME:MST
DTSTART:20191103T080000
END:STANDARD
BEGIN:DAYLIGHT
TZOFFSETFROM:-0700
TZOFFSETTO:-0600
TZNAME:MDT
DTSTART:20200308T090000
END:DAYLIGHT
BEGIN:STANDARD
TZOFFSETFROM:-0600
TZOFFSETTO:-0700
TZNAME:MST
DTSTART:20201101T080000
END:STANDARD
BEGIN:DAYLIGHT
TZOFFSETFROM:-0700
TZOFFSETTO:-0600
TZNAME:MDT
DTSTART:20210314T090000
END:DAYLIGHT
BEGIN:STANDARD
TZOFFSETFROM:-0600
TZOFFSETTO:-0700
TZNAME:MST
DTSTART:20211107T080000
END:STANDARD
END:VTIMEZONE
BEGIN:VEVENT
DTSTART;TZID=America/Denver:20200905T100000
DTEND;TZID=America/Denver:20200905T140000
DTSTAMP:20260419T123544
CREATED:20200818T154528Z
LAST-MODIFIED:20200818T154528Z
UID:32673-1599300000-1599314400@atthegateway.com
SUMMARY:Urban Arts Festival 2020
DESCRIPTION:The Urban Arts Fest Elements is a pivot from a large scale 2-day festival to a month-long COVID friendly arrangement of exhibits and outdoor events\, celebrating the 10 year anniversary of the Urban Arts Festival at The Gateway. Join us all month long to view the 10 murals up around The Gateway. \nSeptember 5 (live painting): On Saturday\, September 5th the Utah Arts Alliance will invite the best mural and graffiti artists to line Rio Grande at The Gateway as we add more paint walls to the collection. Masks required and please remember to socially distance yourself from people outside your household.\nSeptember 6: At The Gateway we present Hard N Paint street basketball and custom car culture\, a basketball competition and the Lowrider Custom Car Culture to exhibit their best artwork. There will be judging and prizes for Best of Show\, Best Engine\, Best Display and more.\nSeptember 18 (artist marketplace and skate deck comp winners): Urban Arts Fest Elements celebrates artists practicing any and all mediums\, on Friday\, September 18th the Utah Arts Alliance invited artists to sell handmade art in the Artist Marketplace. This year our festival will be spread out in order to keep everyone safe and healthy.\nWe care about the health and safety of our staff\, volunteers and patrons. If you are attending any of the Urban Arts Fest Elements\, adhere to the following policies:\nIf you are feeling unwell\, stay home\nMaintain 6 feet of social distance while in public\nWear a mask or face covering (required)\nWash or sanitize hands often\nUse a credit card\, debit card or cashless app\nNote that you may be subject to temperature checks and/or contact tracing while at these events.
URL:https://atthegateway.com/calendars/urbanartsfestival2020/2020-09-05/
CATEGORIES:Arts & Culture,Festival
ATTACH;FMTTYPE=image/png:https://atthegateway.com/wp-content/uploads/2020/08/Gateway-Calendar.png
END:VEVENT
END:VCALENDAR